BEGIN:VCALENDAR
VERSION:2.0
PRODID:-//Pinhalla Pinball Store - ECPv6.15.18//NONSGML v1.0//EN
CALSCALE:GREGORIAN
METHOD:PUBLISH
X-ORIGINAL-URL:https://pinhalla.com
X-WR-CALDESC:Events for Pinhalla Pinball Store
REFRESH-INTERVAL;VALUE=DURATION:PT1H
X-Robots-Tag:noindex
X-PUBLISHED-TTL:PT1H
BEGIN:VTIMEZONE
TZID:America/Vancouver
BEGIN:DAYLIGHT
TZOFFSETFROM:-0800
TZOFFSETTO:-0700
TZNAME:PDT
DTSTART:20250309T100000
END:DAYLIGHT
BEGIN:STANDARD
TZOFFSETFROM:-0700
TZOFFSETTO:-0800
TZNAME:PST
DTSTART:20251102T090000
END:STANDARD
BEGIN:DAYLIGHT
TZOFFSETFROM:-0800
TZOFFSETTO:-0700
TZNAME:PDT
DTSTART:20260308T100000
END:DAYLIGHT
BEGIN:STANDARD
TZOFFSETFROM:-0700
TZOFFSETTO:-0800
TZNAME:PST
DTSTART:20261101T090000
END:STANDARD
BEGIN:DAYLIGHT
TZOFFSETFROM:-0800
TZOFFSETTO:-0700
TZNAME:PDT
DTSTART:20270314T100000
END:DAYLIGHT
BEGIN:STANDARD
TZOFFSETFROM:-0700
TZOFFSETTO:-0800
TZNAME:PST
DTSTART:20271107T090000
END:STANDARD
END:VTIMEZONE
BEGIN:VEVENT
DTSTART;TZID=America/Vancouver:20260421T160000
DTEND;TZID=America/Vancouver:20260421T230000
DTSTAMP:20260421T031754
CREATED:20260305T212505Z
LAST-MODIFIED:20260305T212505Z
UID:10001287-1776787200-1776812400@pinhalla.com
SUMMARY:RED HOT Tuesdays 💋 {Date Night}
DESCRIPTION:❤️ Date Night ❤️ with RED HOT Tuesday’s ❤️ \n$5 OFF all whole Pizzas ⚡️ $5 Shafts ⚡️ $5 Glasses (6oz) of wine 🍷 \n💋💋💋
URL:https://pinhalla.com/event/red-hot-tuesdays-%f0%9f%92%8b-date-night-14/
ATTACH;FMTTYPE=image/jpeg:https://pinhalla.com/app/uploads/2025/12/PINHALLA-REDHOT-DATE-NIGHT-POSTER-1024-sml.jpg
END:VEVENT
BEGIN:VEVENT
DTSTART;TZID=America/Vancouver:20260422T184500
DTEND;TZID=America/Vancouver:20260422T211500
DTSTAMP:20260421T031754
CREATED:20260326T175546Z
LAST-MODIFIED:20260326T175546Z
UID:10001308-1776883500-1776892500@pinhalla.com
SUMMARY:Legendary Wednesdays featuring the Legends of Pinhalla Pinball League hosted by the VPL
DESCRIPTION:⚡$6 Roni Slices ⚡ $5 Lonetree Ciders ⚡ $7 Fat Tug Pints ~ all day long! \nPinball league sign-up is at 6:45pm\, groups will be made at 7pm sharp. Games usually finish up after 9pm. This is an all ages event\, and we encourage players of all skill levels and experience to join. Minors must be accompanied by an adult. \nThis is an IFPA-sanctioned event. $2 of the fee goes toward sanctioning and registering players with the International Flipper Pinball Association\, \nFor any questions\, concerns\, or high scores\, reach out to Victoria Pinball Leagues on Instagram\, Facebook\, or via email at victoriapinball@gmail.com. \n(Schedule is subject to change)
URL:https://pinhalla.com/event/legendary-wednesdays-featuring-the-legends-of-pinhalla-pinball-league-hosted-by-the-vpl-20/
ATTACH;FMTTYPE=image/png:https://pinhalla.com/app/uploads/2025/01/PINHALLA_Wednesdays_16-9-2.png
END:VEVENT
BEGIN:VEVENT
DTSTART;TZID=America/Vancouver:20260423T190000
DTEND;TZID=America/Vancouver:20260423T210000
DTSTAMP:20260421T031754
CREATED:20260326T175400Z
LAST-MODIFIED:20260326T175400Z
UID:10001305-1776970800-1776978000@pinhalla.com
SUMMARY:ThinkTank Trivia Thursdays
DESCRIPTION:⚡️🧠⚡️ THINKTANK TRIVIA ⚡️🧠⚡️ Spring Season! \nGrab your friends for a challenging trivia night with @thinktanktrivia.ca and claim your prize! 🏆 \nTest your smarts\, over a frosty cold beer\, delicious cocktails\, and amazing Pizza\, Salads\, and Appys!! 🍕 \nAfterward\, join us for a round of Pinball before the night is over!! ⚡️🪩 ⚡️
URL:https://pinhalla.com/event/thinktank-trivia-thursdays-16/
ATTACH;FMTTYPE=image/jpeg:https://pinhalla.com/app/uploads/2025/01/ThinkTank_16x9_3.jpg
END:VEVENT
BEGIN:VEVENT
DTSTART;TZID=America/Vancouver:20260424T210000
DTEND;TZID=America/Vancouver:20260424T235900
DTSTAMP:20260421T031754
CREATED:20260326T175830Z
LAST-MODIFIED:20260327T030924Z
UID:10001313-1777064400-1777075140@pinhalla.com
SUMMARY:Full Tilt Fridays
DESCRIPTION:The weekend is here! Our resident DJs Bellyfish & Primitive will be spinning tunes to set the mood on alternate Fridays. DJs from 9pm – midnight! Happy Hour from 4-5:30pm! \n 
URL:https://pinhalla.com/event/full-tilt-fridays-18/
ATTACH;FMTTYPE=image/jpeg:https://pinhalla.com/app/uploads/2026/03/FullTilt-Fridays-Screen.jpg
END:VEVENT
BEGIN:VEVENT
DTSTART;TZID=America/Vancouver:20260425T210000
DTEND;TZID=America/Vancouver:20260425T235900
DTSTAMP:20260421T031754
CREATED:20260326T183628Z
LAST-MODIFIED:20260327T155525Z
UID:10001317-1777150800-1777161540@pinhalla.com
SUMMARY:Saturday Night Spinners
DESCRIPTION:⚡️🪩⚡️ Summon your bravest companions Saturdays\, for a night of awesome beats 🎧 delicious eats 🍕 and pinball action⚡️🪩⚡️ ~ Featuring DJ Anger & Friends ~
URL:https://pinhalla.com/event/saturday-night-spinners-18/
ATTACH;FMTTYPE=image/jpeg:https://pinhalla.com/app/uploads/2026/03/SaturdayNightSpinners-Screen.jpg
END:VEVENT
BEGIN:VEVENT
DTSTART;TZID=America/Vancouver:20260427T190000
DTEND;TZID=America/Vancouver:20260427T220000
DTSTAMP:20260421T031754
CREATED:20260326T181653Z
LAST-MODIFIED:20260326T181908Z
UID:10001322-1777316400-1777327200@pinhalla.com
SUMMARY:Pinhalla Smash Brothers Ultimate Tournament #6
DESCRIPTION:We have another exciting Tournament Series coming to Victoria!\nBYOC – Bring your own Controller! Setups are also appreciated to ensure the event runs smoothly. If you cannot bring a full setup\, please bring your controller!\nA huge thank you to Pinhalla for letting us use their space to run a Smash Tournament. Support the Venue by purchasing food or drinks! Or better yet\, try some of the Pinball Machines out at the venue!\nTournament Entry Capped at 48 Signups.\nPRICING\n$10 Entry.\n4:00 PM Doors Open\n6:30 PM Bracket Starts\n10:00 PM Tournament Ends\nRegister here
URL:https://pinhalla.com/event/pinhalla-smash-brothers-ultimate-tournament-6/
ATTACH;FMTTYPE=image/jpeg:https://pinhalla.com/app/uploads/2026/03/SMASH-April-27th-16x9-1.jpg
END:VEVENT
BEGIN:VEVENT
DTSTART;TZID=America/Vancouver:20260428T160000
DTEND;TZID=America/Vancouver:20260428T230000
DTSTAMP:20260421T031754
CREATED:20260305T212600Z
LAST-MODIFIED:20260326T180239Z
UID:10001288-1777392000-1777417200@pinhalla.com
SUMMARY:RED HOT Tuesdays 💋 {Date Night}
DESCRIPTION:❤️ Date Night ❤️ with RED HOT Tuesdays ❤️ \n$5 OFF all whole Pizzas ⚡️ $5 Shafts ⚡️ $5 Glasses (6oz) of wine 🍷 \n💋💋💋
URL:https://pinhalla.com/event/red-hot-tuesdays-%f0%9f%92%8b-date-night-15/
ATTACH;FMTTYPE=image/jpeg:https://pinhalla.com/app/uploads/2025/12/PINHALLA-REDHOT-DATE-NIGHT-POSTER-1024-sml.jpg
END:VEVENT
BEGIN:VEVENT
DTSTART;TZID=America/Vancouver:20260429T184500
DTEND;TZID=America/Vancouver:20260429T211500
DTSTAMP:20260421T031754
CREATED:20260326T175607Z
LAST-MODIFIED:20260326T175607Z
UID:10001309-1777488300-1777497300@pinhalla.com
SUMMARY:Legendary Wednesdays featuring the Legends of Pinhalla Pinball League hosted by the VPL
DESCRIPTION:⚡$6 Roni Slices ⚡ $5 Lonetree Ciders ⚡ $7 Fat Tug Pints ~ all day long! \nPinball league sign-up is at 6:45pm\, groups will be made at 7pm sharp. Games usually finish up after 9pm. This is an all ages event\, and we encourage players of all skill levels and experience to join. Minors must be accompanied by an adult. \nThis is an IFPA-sanctioned event. $2 of the fee goes toward sanctioning and registering players with the International Flipper Pinball Association\, \nFor any questions\, concerns\, or high scores\, reach out to Victoria Pinball Leagues on Instagram\, Facebook\, or via email at victoriapinball@gmail.com. \n(Schedule is subject to change)
URL:https://pinhalla.com/event/legendary-wednesdays-featuring-the-legends-of-pinhalla-pinball-league-hosted-by-the-vpl-21/
ATTACH;FMTTYPE=image/png:https://pinhalla.com/app/uploads/2025/01/PINHALLA_Wednesdays_16-9-2.png
END:VEVENT
BEGIN:VEVENT
DTSTART;TZID=America/Vancouver:20260430T190000
DTEND;TZID=America/Vancouver:20260430T210000
DTSTAMP:20260421T031754
CREATED:20260326T175453Z
LAST-MODIFIED:20260326T175453Z
UID:10001306-1777575600-1777582800@pinhalla.com
SUMMARY:ThinkTank Trivia Thursdays
DESCRIPTION:⚡️🧠⚡️ THINKTANK TRIVIA ⚡️🧠⚡️ Spring Season! \nGrab your friends for a challenging trivia night with @thinktanktrivia.ca and claim your prize! 🏆 \nTest your smarts\, over a frosty cold beer\, delicious cocktails\, and amazing Pizza\, Salads\, and Appys!! 🍕 \nAfterward\, join us for a round of Pinball before the night is over!! ⚡️🪩 ⚡️
URL:https://pinhalla.com/event/thinktank-trivia-thursdays-17/
ATTACH;FMTTYPE=image/jpeg:https://pinhalla.com/app/uploads/2025/01/ThinkTank_16x9_3.jpg
END:VEVENT
BEGIN:VEVENT
DTSTART;TZID=America/Vancouver:20260501T210000
DTEND;TZID=America/Vancouver:20260501T235900
DTSTAMP:20260421T031754
CREATED:20260326T175859Z
LAST-MODIFIED:20260327T011117Z
UID:10001314-1777669200-1777679940@pinhalla.com
SUMMARY:Full Tilt Fridays
DESCRIPTION:The weekend is here! Our resident DJs Bellyfish & Primitive will be spinning tunes to set the mood on alternate Fridays. DJs from 9pm – midnight! Happy Hour from 4-5:30pm! \n 
URL:https://pinhalla.com/event/full-tilt-fridays-19/
ATTACH;FMTTYPE=image/jpeg:https://pinhalla.com/app/uploads/2026/03/FullTilt-Fridays-Screen.jpg
END:VEVENT
END:VCALENDAR