BEGIN:VCALENDAR
VERSION:2.0
PRODID:-//Pinhalla Pinball Store - ECPv6.15.18//NONSGML v1.0//EN
CALSCALE:GREGORIAN
METHOD:PUBLISH
X-ORIGINAL-URL:https://pinhalla.com
X-WR-CALDESC:Events for Pinhalla Pinball Store
REFRESH-INTERVAL;VALUE=DURATION:PT1H
X-Robots-Tag:noindex
X-PUBLISHED-TTL:PT1H
BEGIN:VTIMEZONE
TZID:America/Vancouver
BEGIN:DAYLIGHT
TZOFFSETFROM:-0800
TZOFFSETTO:-0700
TZNAME:PDT
DTSTART:20240310T100000
END:DAYLIGHT
BEGIN:STANDARD
TZOFFSETFROM:-0700
TZOFFSETTO:-0800
TZNAME:PST
DTSTART:20241103T090000
END:STANDARD
BEGIN:DAYLIGHT
TZOFFSETFROM:-0800
TZOFFSETTO:-0700
TZNAME:PDT
DTSTART:20250309T100000
END:DAYLIGHT
BEGIN:STANDARD
TZOFFSETFROM:-0700
TZOFFSETTO:-0800
TZNAME:PST
DTSTART:20251102T090000
END:STANDARD
BEGIN:DAYLIGHT
TZOFFSETFROM:-0800
TZOFFSETTO:-0700
TZNAME:PDT
DTSTART:20260308T100000
END:DAYLIGHT
BEGIN:STANDARD
TZOFFSETFROM:-0700
TZOFFSETTO:-0800
TZNAME:PST
DTSTART:20261101T090000
END:STANDARD
END:VTIMEZONE
BEGIN:VEVENT
DTSTART;VALUE=DATE:20251225
DTEND;VALUE=DATE:20251226
DTSTAMP:20260421T193851
CREATED:20251216T025903Z
LAST-MODIFIED:20251216T025903Z
UID:10001213-1766620800-1766707199@pinhalla.com
SUMMARY:CLOSED FOR CHRISTMAS
DESCRIPTION:We are closed on December 25th for Christmas Day.
URL:https://pinhalla.com/event/closed-for-christmas/
END:VEVENT
BEGIN:VEVENT
DTSTART;TZID=America/Vancouver:20251221T170000
DTEND;TZID=America/Vancouver:20251221T230000
DTSTAMP:20260421T193851
CREATED:20251130T193445Z
LAST-MODIFIED:20251216T025728Z
UID:10001206-1766336400-1766358000@pinhalla.com
SUMMARY:CLOSED at 4PM ~ PRIVATE EVENT
DESCRIPTION:We are closed on Dec 21st for a private event. \n🎄Happy Holidays🎄
URL:https://pinhalla.com/event/closed-at-4pm-private-event/
ATTACH;FMTTYPE=image/jpeg:https://pinhalla.com/app/uploads/2024/10/Event-Web-ClosedParty.jpg
END:VEVENT
BEGIN:VEVENT
DTSTART;TZID=America/Vancouver:20251221T113000
DTEND;TZID=America/Vancouver:20251221T160000
DTSTAMP:20260421T193851
CREATED:20251216T025613Z
LAST-MODIFIED:20251217T095327Z
UID:10001212-1766316600-1766332800@pinhalla.com
SUMMARY:⚡️🪩⚡️ Sunday Free Play Sessions
DESCRIPTION:Join us on Sunday for our legendary Free Play Sessions! All games on ⚡️🪩⚡️ Free Play ⚡️🪩⚡️ with admission. This is a great opportunity to work on those flipper skills or introduce a friend to the wonderful world of pinball. Entry is $10 per hour of $20 for a 3 hour session. (Family rates available.)
URL:https://pinhalla.com/event/sunday-free-play-sessions/
ATTACH;FMTTYPE=image/jpeg:https://pinhalla.com/app/uploads/2025/12/FreePlaySession-sml.jpg
END:VEVENT
BEGIN:VEVENT
DTSTART;TZID=America/Vancouver:20251220T210000
DTEND;TZID=America/Vancouver:20251220T235900
DTSTAMP:20260421T193851
CREATED:20260110T022613Z
LAST-MODIFIED:20260110T022613Z
UID:10001225-1766264400-1766275140@pinhalla.com
SUMMARY:Saturday Night Spinners
DESCRIPTION:⚡️🪩⚡️ Summon your bravest companions Saturdays\, for a night of awesome beats 🎧 delicious eats 🍕 and pinball action⚡️🪩⚡️\n~ Featuring DJ Anger ~
URL:https://pinhalla.com/event/saturday-night-spinners-3/
ATTACH;FMTTYPE=image/jpeg:https://pinhalla.com/app/uploads/2024/12/EVENT-SatNiteSpinner.jpg
END:VEVENT
BEGIN:VEVENT
DTSTART;TZID=America/Vancouver:20251220T210000
DTEND;TZID=America/Vancouver:20251220T235900
DTSTAMP:20260421T193851
CREATED:20250710T200100Z
LAST-MODIFIED:20251216T013759Z
UID:10001188-1766264400-1766275140@pinhalla.com
SUMMARY:Saturday Night Spinners
DESCRIPTION:⚡️🪩⚡️ Summon your bravest companions Saturdays\, for a night of awesome beats 🎧 delicious eats 🍕 and pinball action⚡️🪩⚡️\n~ Featuring DJ Anger ~
URL:https://pinhalla.com/event/saturday-night-spinners-11/
ATTACH;FMTTYPE=image/jpeg:https://pinhalla.com/app/uploads/2024/12/EVENT-SatNiteSpinner.jpg
END:VEVENT
BEGIN:VEVENT
DTSTART;TZID=America/Vancouver:20251219T210000
DTEND;TZID=America/Vancouver:20251219T235900
DTSTAMP:20260421T193851
CREATED:20250710T200026Z
LAST-MODIFIED:20251216T012608Z
UID:10001186-1766178000-1766188740@pinhalla.com
SUMMARY:Full Tilt Fridays
DESCRIPTION:The weekend is here! Our residents DJ Bellyfish & DJ Primitive\, will be spinning tunes to set the mood while you ⚡ Beer ⚡ Pizza ⚡ Pinballa ⚡ \nHappy Hour from 4-5:30pm!\n$5 Phillip’s TILT Pints ⚡ $5 Cheese Slices ⚡ $8 Fried Garlic Bites \nDJs from 9pm – midnight!
URL:https://pinhalla.com/event/full-tilt-fridays-14/
ATTACH;FMTTYPE=image/png:https://pinhalla.com/app/uploads/2024/12/TILT_banner.png
END:VEVENT
BEGIN:VEVENT
DTSTART;TZID=America/Vancouver:20251219T160000
DTEND;TZID=America/Vancouver:20251219T173000
DTSTAMP:20260421T193851
CREATED:20251216T013123Z
LAST-MODIFIED:20251216T013937Z
UID:10001210-1766160000-1766165400@pinhalla.com
SUMMARY:HAPPY HOUR!!
DESCRIPTION:Happy Hour Monday – Friday from 4-5:30pm!\n⚡ $5 Phillip’s TILT Pints ⚡ $5 Cheese Slices ⚡ $8 Fried Garlic Bites
URL:https://pinhalla.com/event/happy-hour/2025-12-19/
ATTACH;FMTTYPE=image/png:https://pinhalla.com/app/uploads/2025/12/Happy-Hour-Mon-Fri-sml.png
END:VEVENT
BEGIN:VEVENT
DTSTART;TZID=America/Vancouver:20251218T160000
DTEND;TZID=America/Vancouver:20251218T173000
DTSTAMP:20260421T193851
CREATED:20251216T013123Z
LAST-MODIFIED:20251216T013937Z
UID:10001209-1766073600-1766079000@pinhalla.com
SUMMARY:HAPPY HOUR!!
DESCRIPTION:Happy Hour Monday – Friday from 4-5:30pm!\n⚡ $5 Phillip’s TILT Pints ⚡ $5 Cheese Slices ⚡ $8 Fried Garlic Bites
URL:https://pinhalla.com/event/happy-hour/2025-12-18/
ATTACH;FMTTYPE=image/png:https://pinhalla.com/app/uploads/2025/12/Happy-Hour-Mon-Fri-sml.png
END:VEVENT
BEGIN:VEVENT
DTSTART;TZID=America/Vancouver:20251217T184500
DTEND;TZID=America/Vancouver:20251217T211500
DTSTAMP:20260421T193851
CREATED:20250804T160333Z
LAST-MODIFIED:20251216T030116Z
UID:10001205-1765997100-1766006100@pinhalla.com
SUMMARY:Legendary Wednesdays featuring the Legends of Pinhalla Pinball League hosted by the VPL
DESCRIPTION:⚡$6 Roni Slices ⚡ $5 Lonetree Ciders ⚡ $7 Fat Tug Pints ~ all day long! \nPinball league sign-up is at 6:45pm\, groups will be made at 7pm sharp. Games usually finish up after 9pm. This is an all ages event\, and we encourage players of all skill levels and experience to join. Minors must be accompanied by an adult. \nThis is an IFPA-sanctioned event. $2 of the fee goes toward sanctioning and registering players with the International Flipper Pinball Association\, \nFor any questions\, concerns\, or high scores\, reach out to Victoria Pinball Leagues on Instagram\, Facebook\, or via email at victoriapinball@gmail.com. \n(Schedule is subject to change)
URL:https://pinhalla.com/event/legendary-wednesdays-featuring-the-legends-of-pinhalla-pinball-league-hosted-by-the-vpl-14/
ATTACH;FMTTYPE=image/png:https://pinhalla.com/app/uploads/2025/01/PINHALLA_Wednesdays_16-9-2.png
END:VEVENT
BEGIN:VEVENT
DTSTART;TZID=America/Vancouver:20251217T160000
DTEND;TZID=America/Vancouver:20251217T173000
DTSTAMP:20260421T193851
CREATED:20251216T013123Z
LAST-MODIFIED:20251216T013937Z
UID:10001208-1765987200-1765992600@pinhalla.com
SUMMARY:HAPPY HOUR!!
DESCRIPTION:Happy Hour Monday – Friday from 4-5:30pm!\n⚡ $5 Phillip’s TILT Pints ⚡ $5 Cheese Slices ⚡ $8 Fried Garlic Bites
URL:https://pinhalla.com/event/happy-hour/2025-12-17/
ATTACH;FMTTYPE=image/png:https://pinhalla.com/app/uploads/2025/12/Happy-Hour-Mon-Fri-sml.png
END:VEVENT
BEGIN:VEVENT
DTSTART;TZID=America/Vancouver:20251216T160000
DTEND;TZID=America/Vancouver:20251216T230000
DTSTAMP:20260421T193851
CREATED:20251217T030015Z
LAST-MODIFIED:20251217T090124Z
UID:10001216-1765900800-1765926000@pinhalla.com
SUMMARY:RED HOT Tuesday's 💋 {Date Night}
DESCRIPTION:❤️ Date Night ❤️ with RED HOT Tuesday’s ❤️ \n$5 OFF all whole Pizzas ⚡️ $5 Shafts ⚡️ $5 Glasses (6oz) of wine 🍷 \n💋💋💋
URL:https://pinhalla.com/event/red-hot-tuesdays/
ATTACH;FMTTYPE=image/jpeg:https://pinhalla.com/app/uploads/2025/12/PINHALLA-REDHOT-DATE-NIGHT-POSTER-1024-sml.jpg
END:VEVENT
BEGIN:VEVENT
DTSTART;TZID=America/Vancouver:20251216T160000
DTEND;TZID=America/Vancouver:20251216T173000
DTSTAMP:20260421T193851
CREATED:20251216T013123Z
LAST-MODIFIED:20251216T013937Z
UID:10001207-1765900800-1765906200@pinhalla.com
SUMMARY:HAPPY HOUR!!
DESCRIPTION:Happy Hour Monday – Friday from 4-5:30pm!\n⚡ $5 Phillip’s TILT Pints ⚡ $5 Cheese Slices ⚡ $8 Fried Garlic Bites
URL:https://pinhalla.com/event/happy-hour/2025-12-16/
ATTACH;FMTTYPE=image/png:https://pinhalla.com/app/uploads/2025/12/Happy-Hour-Mon-Fri-sml.png
END:VEVENT
BEGIN:VEVENT
DTSTART;VALUE=DATE:20251215
DTEND;VALUE=DATE:20251216
DTSTAMP:20260421T193851
CREATED:20251216T030640Z
LAST-MODIFIED:20251216T030640Z
UID:10001215-1765756800-1765843199@pinhalla.com
SUMMARY:Extra Credit Mondays
DESCRIPTION:Student Night at Pinhalla! $5 Pints of Phillips Tilt Lager\, $6 Highballs\, $5 Pin Pockets! 5 Free Tokens w/ Student ID. Featuring the sweet sounds of DJ Trevor! 9pm No Cover
URL:https://pinhalla.com/event/extra-credit-mondays/
END:VEVENT
BEGIN:VEVENT
DTSTART;VALUE=DATE:20251202
DTEND;VALUE=DATE:20251203
DTSTAMP:20260421T193851
CREATED:20250708T052405Z
LAST-MODIFIED:20251128T234239Z
UID:10001185-1764633600-1764719999@pinhalla.com
SUMMARY:CLOSED ~ PRIVATE EVENT
DESCRIPTION:We are closed Tuesday Dec 2nd for a private events. \nSorry for the inconvenience!
URL:https://pinhalla.com/event/closed-private-event-11/
ATTACH;FMTTYPE=image/jpeg:https://pinhalla.com/app/uploads/2024/10/Event-Web-ClosedParty.jpg
END:VEVENT
BEGIN:VEVENT
DTSTART;TZID=America/Vancouver:20251127T190000
DTEND;TZID=America/Vancouver:20251127T210000
DTSTAMP:20260421T193851
CREATED:20250710T200310Z
LAST-MODIFIED:20251127T023241Z
UID:10001193-1764270000-1764277200@pinhalla.com
SUMMARY:ThinkTank Trivia Thursdays
DESCRIPTION:⚡️🧠⚡️ THINKTANK TRIVIA ⚡️🧠⚡️ Fall Season! \nGrab your friends for a challenging trivia night with @thinktanktrivia.ca and claim your prize! 🏆 \nTest your smarts\, over a frosty cold beer\, delicious cocktails\, and amazing Pizza\, Salads\, and Appy’s!! 🍕 \nAfterward\, join us for a round of Pinball before the night is over!! ⚡️🪩 ⚡️
URL:https://pinhalla.com/event/thinktank-trivia-thursdays-18/
ATTACH;FMTTYPE=image/jpeg:https://pinhalla.com/app/uploads/2025/01/ThinkTank_16x9_3.jpg
END:VEVENT
BEGIN:VEVENT
DTSTART;VALUE=DATE:20251117
DTEND;VALUE=DATE:20251118
DTSTAMP:20260421T193851
CREATED:20250804T155956Z
LAST-MODIFIED:20251114T004947Z
UID:10001198-1763337600-1763423999@pinhalla.com
SUMMARY:It's-a-me Mondays
DESCRIPTION:⚡️$12 Multiball Meatball Sandwich ⚡️ $5 Sleeves of Tilt ⚡️ $6 Highballs ⚡️ from open to close! \nGive your Monday a power-up with our signature meatball sammy (only available Mondays) and some affordable bevies. We will have Mario Kart and Mario Party running on the bar TVs and someone will probably wear overalls.
URL:https://pinhalla.com/event/its-a-me-mondays-21/
ATTACH;FMTTYPE=image/jpeg:https://pinhalla.com/app/uploads/2025/01/Monday-16x9-1.jpg
END:VEVENT
BEGIN:VEVENT
DTSTART;TZID=America/Vancouver:20251116T200000
DTEND;TZID=America/Vancouver:20251116T220000
DTSTAMP:20260421T193852
CREATED:20250710T200129Z
LAST-MODIFIED:20251114T152649Z
UID:10001189-1763323200-1763330400@pinhalla.com
SUMMARY:eXtreme Sundays
DESCRIPTION:90’s Tunes • 90’s Food • 90’s Games • 90’s Vibes
URL:https://pinhalla.com/event/sunday-safari-5/
ATTACH;FMTTYPE=image/png:https://pinhalla.com/app/uploads/2025/06/Safari_temp.png
END:VEVENT
BEGIN:VEVENT
DTSTART;VALUE=DATE:20250902
DTEND;VALUE=DATE:20250903
DTSTAMP:20260421T193852
CREATED:20251014T160224Z
LAST-MODIFIED:20251015T013511Z
UID:10001203-1756771200-1756857599@pinhalla.com
SUMMARY:2VTues: Head to Head Console Games
DESCRIPTION:⚡️$5 off Pizzas / $6 Sleeves of Pineapple Hazy Pale from {Lighthouse Brewery} / $6 Nudes ⚡️ \nCozy up to the bar for some Head 2 Head console games and compete against your friends or complete strangers for glory and bragging rights! Food and drink specials all day long!
URL:https://pinhalla.com/event/2vtues-head-to-head-console-games-17/
ATTACH;FMTTYPE=image/jpeg:https://pinhalla.com/app/uploads/2025/01/TUESDAYS-1920.jpg
END:VEVENT
BEGIN:VEVENT
DTSTART;VALUE=DATE:20250618
DTEND;VALUE=DATE:20250619
DTSTAMP:20260421T193852
CREATED:20250603T150817Z
LAST-MODIFIED:20250603T150817Z
UID:10001170-1750204800-1750291199@pinhalla.com
SUMMARY:Legendary Wednesdays featuring the Legends of Pinhalla Pinball League hosted by the VPL
DESCRIPTION:⚡$6 Roni Slices ⚡ $6 Lonetree Ciders ⚡  $6 Driftwood Sleeves ⚡ all day long! \nPinball league sign-up is at 6:45pm\, groups will be made at 7pm sharp. Games usually finish up after 9pm. This is an all ages event\, and we encourage players of all skill levels and experience to join. Minors must be accompanied by an adult. \nThis is an IFPA-sanctioned event. $2 of the fee goes toward sanctioning and registering players with the International Flipper Pinball Association\, \nFor any questions\, concerns\, or high scores\, reach out to Victoria Pinball Leagues on Instagram\, Facebook\, or via email at victoriapinball@gmail.com. \n(Schedule is subject to change)
URL:https://pinhalla.com/event/legendary-wednesdays-featuring-the-legends-of-pinhalla-pinball-league-hosted-by-the-vpl-10/
ATTACH;FMTTYPE=image/png:https://pinhalla.com/app/uploads/2025/01/PINHALLA_Wednesdays_16-9-2.png
END:VEVENT
BEGIN:VEVENT
DTSTART;VALUE=DATE:20250617
DTEND;VALUE=DATE:20250618
DTSTAMP:20260421T193852
CREATED:20250603T150801Z
LAST-MODIFIED:20250603T150801Z
UID:10001169-1750118400-1750204799@pinhalla.com
SUMMARY:2VTues: Head to Head Console Games
DESCRIPTION:⚡️$5 off Pizzas / $6 Sleeves of Dark Matter / $6 Nudes ⚡️ \nCozy up to the bar for some Head 2 Head console games and compete against your friends or complete strangers for glory and bragging rights! Food and drink specials all day long!
URL:https://pinhalla.com/event/2vtues-head-to-head-console-games-10/
ATTACH;FMTTYPE=image/jpeg:https://pinhalla.com/app/uploads/2025/01/TUESDAYS-1920.jpg
END:VEVENT
BEGIN:VEVENT
DTSTART;TZID=America/Vancouver:20250606T210000
DTEND;TZID=America/Vancouver:20250606T235900
DTSTAMP:20260421T193852
CREATED:20250603T150102Z
LAST-MODIFIED:20250603T150102Z
UID:10001160-1749243600-1749254340@pinhalla.com
SUMMARY:Full Tilt Fridays
DESCRIPTION:The weekend is here! Our resident DJs Anger and Hyperlynx will be spinning tunes to set the mood while you unwind and enjoy some pinball. 9pm – midnight. No Cover
URL:https://pinhalla.com/event/full-tilt-fridays-10/
ATTACH;FMTTYPE=image/png:https://pinhalla.com/app/uploads/2024/12/TILT_banner.png
END:VEVENT
BEGIN:VEVENT
DTSTART;TZID=America/Vancouver:20250605T190000
DTEND;TZID=America/Vancouver:20250605T210000
DTSTAMP:20260421T193852
CREATED:20250603T145925Z
LAST-MODIFIED:20250603T145925Z
UID:10001159-1749150000-1749157200@pinhalla.com
SUMMARY:ThinkTank Trivia Thursdays
DESCRIPTION:⚡️🧠⚡️ THINKTANK TRIVIA ⚡️🧠⚡️ Spring Season! \nGrab your friends for a challenging trivia night with @thinktanktrivia.ca and claim your prize! 🏆 \nTest your smarts\, over a frosty cold beer\, delicious cocktails\, and amazing Pizza\, Salads\, and Appy’s!! 🍕 \nAfterward\, join us for a round of Pinball before the night is over!! ⚡️🪩 ⚡️
URL:https://pinhalla.com/event/thinktank-trivia-thursdays-15/
ATTACH;FMTTYPE=image/jpeg:https://pinhalla.com/app/uploads/2025/01/ThinkTank_16x9_3.jpg
END:VEVENT
BEGIN:VEVENT
DTSTART;VALUE=DATE:20250604
DTEND;VALUE=DATE:20250605
DTSTAMP:20260421T193852
CREATED:20250603T145856Z
LAST-MODIFIED:20250603T145856Z
UID:10001158-1748995200-1749081599@pinhalla.com
SUMMARY:Legendary Wednesdays featuring the Legends of Pinhalla Pinball League hosted by the VPL
DESCRIPTION:⚡$6 Roni Slices ⚡ $6 Lonetree Ciders ⚡  $6 Driftwood Sleeves ⚡ all day long! \nPinball league sign-up is at 6:45pm\, groups will be made at 7pm sharp. Games usually finish up after 9pm. This is an all ages event\, and we encourage players of all skill levels and experience to join. Minors must be accompanied by an adult. \nThis is an IFPA-sanctioned event. $2 of the fee goes toward sanctioning and registering players with the International Flipper Pinball Association\, \nFor any questions\, concerns\, or high scores\, reach out to Victoria Pinball Leagues on Instagram\, Facebook\, or via email at victoriapinball@gmail.com. \n(Schedule is subject to change)
URL:https://pinhalla.com/event/legendary-wednesdays-featuring-the-legends-of-pinhalla-pinball-league-hosted-by-the-vpl-8/
ATTACH;FMTTYPE=image/png:https://pinhalla.com/app/uploads/2025/01/PINHALLA_Wednesdays_16-9-2.png
END:VEVENT
BEGIN:VEVENT
DTSTART;VALUE=DATE:20250603
DTEND;VALUE=DATE:20250604
DTSTAMP:20260421T193852
CREATED:20250603T145832Z
LAST-MODIFIED:20250603T145832Z
UID:10001157-1748908800-1748995199@pinhalla.com
SUMMARY:2VTues: Head to Head Console Games
DESCRIPTION:⚡️$5 off Pizzas / $6 Sleeves of Dark Matter / $6 Nudes ⚡️ \nCozy up to the bar for some Head 2 Head console games and compete against your friends or complete strangers for glory and bragging rights! Food and drink specials all day long!
URL:https://pinhalla.com/event/2vtues-head-to-head-console-games-8/
ATTACH;FMTTYPE=image/jpeg:https://pinhalla.com/app/uploads/2025/01/TUESDAYS-1920.jpg
END:VEVENT
BEGIN:VEVENT
DTSTART;TZID=America/Vancouver:20250515T190000
DTEND;TZID=America/Vancouver:20250515T210000
DTSTAMP:20260421T193852
CREATED:20250329T192320Z
LAST-MODIFIED:20250329T192320Z
UID:10001135-1747335600-1747342800@pinhalla.com
SUMMARY:ThinkTank Trivia Thursdays
DESCRIPTION:⚡️🧠⚡️ THINKTANK TRIVIA ⚡️🧠⚡️ Spring Season! \nGrab your friends for a challenging trivia night with @thinktanktrivia.ca and claim your prize! 🏆 \nTest your smarts\, over a frosty cold beer\, delicious cocktails\, and amazing Pizza\, Salads\, and Appy’s!! 🍕 \nAfterward\, join us for a round of Pinball before the night is over!! ⚡️🪩 ⚡️
URL:https://pinhalla.com/event/thinktank-trivia-thursdays-14/
ATTACH;FMTTYPE=image/jpeg:https://pinhalla.com/app/uploads/2025/01/ThinkTank_16x9_3.jpg
END:VEVENT
BEGIN:VEVENT
DTSTART;VALUE=DATE:20250514
DTEND;VALUE=DATE:20250515
DTSTAMP:20260421T193852
CREATED:20250330T011238Z
LAST-MODIFIED:20250330T011238Z
UID:10001144-1747180800-1747267199@pinhalla.com
SUMMARY:Legendary Wednesdays featuring the Legends of Pinhalla Pinball League hosted by the VPL
DESCRIPTION:⚡$6 Roni Slices ⚡ $6 Lonetree Ciders ⚡  $6 Driftwood Sleeves ⚡ all day long! \nPinball league sign-up is at 6:45pm\, groups will be made at 7pm sharp. Games usually finish up after 9pm. This is an all ages event\, and we encourage players of all skill levels and experience to join. Minors must be accompanied by an adult. \nThis is an IFPA-sanctioned event. $2 of the fee goes toward sanctioning and registering players with the International Flipper Pinball Association\, \nFor any questions\, concerns\, or high scores\, reach out to Victoria Pinball Leagues on Instagram\, Facebook\, or via email at victoriapinball@gmail.com. \n(Schedule is subject to change)
URL:https://pinhalla.com/event/legendary-wednesdays-featuring-the-legends-of-pinhalla-pinball-league-hosted-by-the-vpl-7/
ATTACH;FMTTYPE=image/png:https://pinhalla.com/app/uploads/2025/01/PINHALLA_Wednesdays_16-9-2.png
END:VEVENT
BEGIN:VEVENT
DTSTART;VALUE=DATE:20250513
DTEND;VALUE=DATE:20250514
DTSTAMP:20260421T193852
CREATED:20250330T011919Z
LAST-MODIFIED:20250330T011919Z
UID:10001156-1747094400-1747180799@pinhalla.com
SUMMARY:2VTues: Head to Head Console Games
DESCRIPTION:⚡️$5 off Pizzas / $6 Sleeves of Dark Matter / $6 Nudes ⚡️ \nCozy up to the bar for some Head 2 Head console games and compete against your friends or complete strangers for glory and bragging rights! Food and drink specials all day long!
URL:https://pinhalla.com/event/2vtues-head-to-head-console-games-7/
ATTACH;FMTTYPE=image/jpeg:https://pinhalla.com/app/uploads/2025/01/TUESDAYS-1920.jpg
END:VEVENT
BEGIN:VEVENT
DTSTART;VALUE=DATE:20250512
DTEND;VALUE=DATE:20250513
DTSTAMP:20260421T193852
CREATED:20250330T011700Z
LAST-MODIFIED:20250330T011700Z
UID:10001150-1747008000-1747094399@pinhalla.com
SUMMARY:It's-a-me Mondays
DESCRIPTION:⚡️$12 Multiball Meatball Sandwich ⚡️ $5 Sleeves of Tilt ⚡️ $6 Highballs ⚡️ from open to close! \nGive your Monday a power-up with our signature meatball sammy (only available Mondays) and some affordable bevies. We will have Mario Kart and Mario Party running on the bar TVs and someone will probably wear overalls.
URL:https://pinhalla.com/event/its-a-me-mondays-11/
ATTACH;FMTTYPE=image/jpeg:https://pinhalla.com/app/uploads/2025/01/Monday-16x9-1.jpg
END:VEVENT
BEGIN:VEVENT
DTSTART;TZID=America/Vancouver:20250508T190000
DTEND;TZID=America/Vancouver:20250508T210000
DTSTAMP:20260421T193852
CREATED:20250329T192258Z
LAST-MODIFIED:20250329T192258Z
UID:10001134-1746730800-1746738000@pinhalla.com
SUMMARY:ThinkTank Trivia Thursdays
DESCRIPTION:⚡️🧠⚡️ THINKTANK TRIVIA ⚡️🧠⚡️ Spring Season! \nGrab your friends for a challenging trivia night with @thinktanktrivia.ca and claim your prize! 🏆 \nTest your smarts\, over a frosty cold beer\, delicious cocktails\, and amazing Pizza\, Salads\, and Appy’s!! 🍕 \nAfterward\, join us for a round of Pinball before the night is over!! ⚡️🪩 ⚡️
URL:https://pinhalla.com/event/thinktank-trivia-thursdays-13/
ATTACH;FMTTYPE=image/jpeg:https://pinhalla.com/app/uploads/2025/01/ThinkTank_16x9_3.jpg
END:VEVENT
BEGIN:VEVENT
DTSTART;VALUE=DATE:20250507
DTEND;VALUE=DATE:20250508
DTSTAMP:20260421T193852
CREATED:20250330T011216Z
LAST-MODIFIED:20250330T011216Z
UID:10001143-1746576000-1746662399@pinhalla.com
SUMMARY:Legendary Wednesdays featuring the Legends of Pinhalla Pinball League hosted by the VPL
DESCRIPTION:⚡$6 Roni Slices ⚡ $6 Lonetree Ciders ⚡  $6 Driftwood Sleeves ⚡ all day long! \nPinball league sign-up is at 6:45pm\, groups will be made at 7pm sharp. Games usually finish up after 9pm. This is an all ages event\, and we encourage players of all skill levels and experience to join. Minors must be accompanied by an adult. \nThis is an IFPA-sanctioned event. $2 of the fee goes toward sanctioning and registering players with the International Flipper Pinball Association\, \nFor any questions\, concerns\, or high scores\, reach out to Victoria Pinball Leagues on Instagram\, Facebook\, or via email at victoriapinball@gmail.com. \n(Schedule is subject to change)
URL:https://pinhalla.com/event/legendary-wednesdays-featuring-the-legends-of-pinhalla-pinball-league-hosted-by-the-vpl-6/
ATTACH;FMTTYPE=image/png:https://pinhalla.com/app/uploads/2025/01/PINHALLA_Wednesdays_16-9-2.png
END:VEVENT
END:VCALENDAR