BEGIN:VCALENDAR
VERSION:2.0
PRODID:-//Pinhalla Pinball Store - ECPv6.15.18//NONSGML v1.0//EN
CALSCALE:GREGORIAN
METHOD:PUBLISH
X-ORIGINAL-URL:https://pinhalla.com
X-WR-CALDESC:Events for Pinhalla Pinball Store
REFRESH-INTERVAL;VALUE=DURATION:PT1H
X-Robots-Tag:noindex
X-PUBLISHED-TTL:PT1H
BEGIN:VTIMEZONE
TZID:America/Vancouver
BEGIN:DAYLIGHT
TZOFFSETFROM:-0800
TZOFFSETTO:-0700
TZNAME:PDT
DTSTART:20250309T100000
END:DAYLIGHT
BEGIN:STANDARD
TZOFFSETFROM:-0700
TZOFFSETTO:-0800
TZNAME:PST
DTSTART:20251102T090000
END:STANDARD
BEGIN:DAYLIGHT
TZOFFSETFROM:-0800
TZOFFSETTO:-0700
TZNAME:PDT
DTSTART:20260308T100000
END:DAYLIGHT
BEGIN:STANDARD
TZOFFSETFROM:-0700
TZOFFSETTO:-0800
TZNAME:PST
DTSTART:20261101T090000
END:STANDARD
BEGIN:DAYLIGHT
TZOFFSETFROM:-0800
TZOFFSETTO:-0700
TZNAME:PDT
DTSTART:20270314T100000
END:DAYLIGHT
BEGIN:STANDARD
TZOFFSETFROM:-0700
TZOFFSETTO:-0800
TZNAME:PST
DTSTART:20271107T090000
END:STANDARD
END:VTIMEZONE
BEGIN:VEVENT
DTSTART;TZID=America/Vancouver:20260327T210000
DTEND;TZID=America/Vancouver:20260327T235900
DTSTAMP:20260421T044405
CREATED:20260305T205443Z
LAST-MODIFIED:20260327T030505Z
UID:10001270-1774645200-1774655940@pinhalla.com
SUMMARY:Full Tilt Fridays
DESCRIPTION:The weekend is here! Our resident DJs Bellyfish & Primitive will be spinning tunes to set the mood on alternate Fridays. DJs from 9pm – midnight! Happy Hour from 4-5:30pm! \n 
URL:https://pinhalla.com/event/full-tilt-fridays-13/
ATTACH;FMTTYPE=image/jpeg:https://pinhalla.com/app/uploads/2026/03/FullTilt-Fridays-Screen.jpg
END:VEVENT
BEGIN:VEVENT
DTSTART;TZID=America/Vancouver:20260326T190000
DTEND;TZID=America/Vancouver:20260326T210000
DTSTAMP:20260421T044405
CREATED:20260305T205228Z
LAST-MODIFIED:20260305T205228Z
UID:10001266-1774551600-1774558800@pinhalla.com
SUMMARY:ThinkTank Trivia Thursdays
DESCRIPTION:⚡️🧠⚡️ THINKTANK TRIVIA ⚡️🧠⚡️ Winter Season! \nGrab your friends for a challenging trivia night with @thinktanktrivia.ca and claim your prize! 🏆 \nTest your smarts\, over a frosty cold beer\, delicious cocktails\, and amazing Pizza\, Salads\, and Appys!! 🍕 \nAfterward\, join us for a round of Pinball before the night is over!! ⚡️🪩 ⚡️
URL:https://pinhalla.com/event/thinktank-trivia-thursdays-10/
ATTACH;FMTTYPE=image/jpeg:https://pinhalla.com/app/uploads/2025/01/ThinkTank_16x9_3.jpg
END:VEVENT
BEGIN:VEVENT
DTSTART;TZID=America/Vancouver:20260325T184500
DTEND;TZID=America/Vancouver:20260325T211500
DTSTAMP:20260421T044405
CREATED:20260305T205926Z
LAST-MODIFIED:20260305T205926Z
UID:10001278-1774464300-1774473300@pinhalla.com
SUMMARY:Legendary Wednesdays featuring the Legends of Pinhalla Pinball League hosted by the VPL
DESCRIPTION:⚡$6 Roni Slices ⚡ $5 Lonetree Ciders ⚡ $7 Fat Tug Pints ~ all day long! \nPinball league sign-up is at 6:45pm\, groups will be made at 7pm sharp. Games usually finish up after 9pm. This is an all ages event\, and we encourage players of all skill levels and experience to join. Minors must be accompanied by an adult. \nThis is an IFPA-sanctioned event. $2 of the fee goes toward sanctioning and registering players with the International Flipper Pinball Association\, \nFor any questions\, concerns\, or high scores\, reach out to Victoria Pinball Leagues on Instagram\, Facebook\, or via email at victoriapinball@gmail.com. \n(Schedule is subject to change)
URL:https://pinhalla.com/event/legendary-wednesdays-featuring-the-legends-of-pinhalla-pinball-league-hosted-by-the-vpl-16/
ATTACH;FMTTYPE=image/png:https://pinhalla.com/app/uploads/2025/01/PINHALLA_Wednesdays_16-9-2.png
END:VEVENT
BEGIN:VEVENT
DTSTART;TZID=America/Vancouver:20260324T160000
DTEND;TZID=America/Vancouver:20260324T230000
DTSTAMP:20260421T044405
CREATED:20260305T210318Z
LAST-MODIFIED:20260305T210318Z
UID:10001283-1774368000-1774393200@pinhalla.com
SUMMARY:RED HOT Tuesdays 💋 {Date Night}
DESCRIPTION:❤️ Date Night ❤️ with RED HOT Tuesday’s ❤️ \n$5 OFF all whole Pizzas ⚡️ $5 Shafts ⚡️ $5 Glasses (6oz) of wine 🍷 \n💋💋💋
URL:https://pinhalla.com/event/red-hot-tuesdays-%f0%9f%92%8b-date-night-10/
ATTACH;FMTTYPE=image/jpeg:https://pinhalla.com/app/uploads/2025/12/PINHALLA-REDHOT-DATE-NIGHT-POSTER-1024-sml.jpg
END:VEVENT
BEGIN:VEVENT
DTSTART;VALUE=DATE:20260323
DTEND;VALUE=DATE:20260324
DTSTAMP:20260421T044405
CREATED:20260305T213736Z
LAST-MODIFIED:20260305T213736Z
UID:10001294-1774224000-1774310399@pinhalla.com
SUMMARY:Extra Credit Mondays
DESCRIPTION:Student Night at Pinhalla! Get 5 FREE TOKENS w/ Student ID ~ $5 Pints of Phillips Tilt Lager\, $6 Highballs\, $5 Pin Pockets! No Cover!
URL:https://pinhalla.com/event/extra-credit-mondays-12/
ATTACH;FMTTYPE=image/png:https://pinhalla.com/app/uploads/2026/01/Mondays-Extra-Credit.png
END:VEVENT
BEGIN:VEVENT
DTSTART;TZID=America/Vancouver:20260322T210000
DTEND;TZID=America/Vancouver:20260322T230000
DTSTAMP:20260421T044405
CREATED:20260305T214100Z
LAST-MODIFIED:20260305T214322Z
UID:10001296-1774213200-1774220400@pinhalla.com
SUMMARY:SPECIAL EVENT! - Hubbz & DJ Anger
DESCRIPTION:Sunday throwdown with Vancouver’s Hubbz w/ DJ Anger – NO COVER \nKnown for his latin\, dub\, breakbeats and funk\, DJ Hubbz knows no boundaries. During the day Hubbz toils through mountains of wax at Vancouver’s institution\, Beat Street Records. After dark\, he plays several weeklies such as the 17 year long running “The Payback” Saturdays. Hubbz was the first and only deejay to use all 45’s for the prestigious Red Bull 3-Style competition and most recently Hubbz brings you his own 7″ imprint\, Bubbascope Records\, challenging the latin breakbeat funk sound\, now on it’s 3rd release.
URL:https://pinhalla.com/event/special-event-hubbz-dj-anger/
ATTACH;FMTTYPE=image/png:https://pinhalla.com/app/uploads/2026/03/PINHALLA_Hubbs_Mar22-26_16x9-scaled.png
END:VEVENT
BEGIN:VEVENT
DTSTART;TZID=America/Vancouver:20260321T210000
DTEND;TZID=America/Vancouver:20260321T235900
DTSTAMP:20260421T044405
CREATED:20260305T205643Z
LAST-MODIFIED:20260305T205643Z
UID:10001273-1774126800-1774137540@pinhalla.com
SUMMARY:Saturday Night Spinners
DESCRIPTION:⚡️🪩⚡️ Summon your bravest companions Saturdays\, for a night of awesome beats 🎧 delicious eats 🍕 and pinball action⚡️🪩⚡️ ~ Featuring DJ Anger & Friends ~
URL:https://pinhalla.com/event/saturday-night-spinners-13/
ATTACH;FMTTYPE=image/jpeg:https://pinhalla.com/app/uploads/2024/12/EVENT-SatNiteSpinner.jpg
END:VEVENT
BEGIN:VEVENT
DTSTART;TZID=America/Vancouver:20260320T210000
DTEND;TZID=America/Vancouver:20260320T235900
DTSTAMP:20260421T044405
CREATED:20260305T205413Z
LAST-MODIFIED:20260305T205413Z
UID:10001269-1774040400-1774051140@pinhalla.com
SUMMARY:Full Tilt Fridays
DESCRIPTION:The weekend is here! Our resident DJs Bellyfish & Primitive will be spinning tunes to set the mood on alternate Fridays. DJs from 9pm – midnight! Happy Hour from 4-5:30pm! \n 
URL:https://pinhalla.com/event/full-tilt-fridays-12/
ATTACH;FMTTYPE=image/png:https://pinhalla.com/app/uploads/2024/12/TILT_banner.png
END:VEVENT
BEGIN:VEVENT
DTSTART;TZID=America/Vancouver:20260319T190000
DTEND;TZID=America/Vancouver:20260319T210000
DTSTAMP:20260421T044405
CREATED:20260305T205147Z
LAST-MODIFIED:20260305T205147Z
UID:10001265-1773946800-1773954000@pinhalla.com
SUMMARY:ThinkTank Trivia Thursdays
DESCRIPTION:⚡️🧠⚡️ THINKTANK TRIVIA ⚡️🧠⚡️ Winter Season! \nGrab your friends for a challenging trivia night with @thinktanktrivia.ca and claim your prize! 🏆 \nTest your smarts\, over a frosty cold beer\, delicious cocktails\, and amazing Pizza\, Salads\, and Appys!! 🍕 \nAfterward\, join us for a round of Pinball before the night is over!! ⚡️🪩 ⚡️
URL:https://pinhalla.com/event/thinktank-trivia-thursdays-9/
ATTACH;FMTTYPE=image/jpeg:https://pinhalla.com/app/uploads/2025/01/ThinkTank_16x9_3.jpg
END:VEVENT
BEGIN:VEVENT
DTSTART;TZID=America/Vancouver:20260318T184500
DTEND;TZID=America/Vancouver:20260318T211500
DTSTAMP:20260421T044405
CREATED:20260305T205854Z
LAST-MODIFIED:20260305T205854Z
UID:10001277-1773859500-1773868500@pinhalla.com
SUMMARY:Legendary Wednesdays featuring the Legends of Pinhalla Pinball League hosted by the VPL
DESCRIPTION:⚡$6 Roni Slices ⚡ $5 Lonetree Ciders ⚡ $7 Fat Tug Pints ~ all day long! \nPinball league sign-up is at 6:45pm\, groups will be made at 7pm sharp. Games usually finish up after 9pm. This is an all ages event\, and we encourage players of all skill levels and experience to join. Minors must be accompanied by an adult. \nThis is an IFPA-sanctioned event. $2 of the fee goes toward sanctioning and registering players with the International Flipper Pinball Association\, \nFor any questions\, concerns\, or high scores\, reach out to Victoria Pinball Leagues on Instagram\, Facebook\, or via email at victoriapinball@gmail.com. \n(Schedule is subject to change)
URL:https://pinhalla.com/event/legendary-wednesdays-featuring-the-legends-of-pinhalla-pinball-league-hosted-by-the-vpl-15/
ATTACH;FMTTYPE=image/png:https://pinhalla.com/app/uploads/2025/01/PINHALLA_Wednesdays_16-9-2.png
END:VEVENT
BEGIN:VEVENT
DTSTART;TZID=America/Vancouver:20260317T160000
DTEND;TZID=America/Vancouver:20260317T230000
DTSTAMP:20260421T044405
CREATED:20260305T210256Z
LAST-MODIFIED:20260305T210256Z
UID:10001282-1773763200-1773788400@pinhalla.com
SUMMARY:RED HOT Tuesdays 💋 {Date Night}
DESCRIPTION:❤️ Date Night ❤️ with RED HOT Tuesday’s ❤️ \n$5 OFF all whole Pizzas ⚡️ $5 Shafts ⚡️ $5 Glasses (6oz) of wine 🍷 \n💋💋💋
URL:https://pinhalla.com/event/red-hot-tuesdays-%f0%9f%92%8b-date-night-9/
ATTACH;FMTTYPE=image/jpeg:https://pinhalla.com/app/uploads/2025/12/PINHALLA-REDHOT-DATE-NIGHT-POSTER-1024-sml.jpg
END:VEVENT
BEGIN:VEVENT
DTSTART;VALUE=DATE:20260316
DTEND;VALUE=DATE:20260317
DTSTAMP:20260421T044405
CREATED:20260305T213655Z
LAST-MODIFIED:20260305T213655Z
UID:10001293-1773619200-1773705599@pinhalla.com
SUMMARY:Extra Credit Mondays
DESCRIPTION:Student Night at Pinhalla! Get 5 FREE TOKENS w/ Student ID ~ $5 Pints of Phillips Tilt Lager\, $6 Highballs\, $5 Pin Pockets! No Cover!
URL:https://pinhalla.com/event/extra-credit-mondays-11/
ATTACH;FMTTYPE=image/png:https://pinhalla.com/app/uploads/2026/01/Mondays-Extra-Credit.png
END:VEVENT
BEGIN:VEVENT
DTSTART;TZID=America/Vancouver:20260314T210000
DTEND;TZID=America/Vancouver:20260314T235900
DTSTAMP:20260421T044405
CREATED:20260305T205545Z
LAST-MODIFIED:20260305T205545Z
UID:10001272-1773522000-1773532740@pinhalla.com
SUMMARY:Saturday Night Spinners
DESCRIPTION:⚡️🪩⚡️ Summon your bravest companions Saturdays\, for a night of awesome beats 🎧 delicious eats 🍕 and pinball action⚡️🪩⚡️ ~ Featuring DJ Anger & Friends ~
URL:https://pinhalla.com/event/saturday-night-spinners-12/
ATTACH;FMTTYPE=image/jpeg:https://pinhalla.com/app/uploads/2024/12/EVENT-SatNiteSpinner.jpg
END:VEVENT
BEGIN:VEVENT
DTSTART;TZID=America/Vancouver:20260313T210000
DTEND;TZID=America/Vancouver:20260313T235900
DTSTAMP:20260421T044405
CREATED:20260305T205344Z
LAST-MODIFIED:20260305T205344Z
UID:10001268-1773435600-1773446340@pinhalla.com
SUMMARY:Full Tilt Fridays
DESCRIPTION:The weekend is here! Our resident DJs Bellyfish & Primitive will be spinning tunes to set the mood on alternate Fridays. DJs from 9pm – midnight! Happy Hour from 4-5:30pm! \n 
URL:https://pinhalla.com/event/full-tilt-fridays-11/
ATTACH;FMTTYPE=image/png:https://pinhalla.com/app/uploads/2024/12/TILT_banner.png
END:VEVENT
BEGIN:VEVENT
DTSTART;TZID=America/Vancouver:20260312T190000
DTEND;TZID=America/Vancouver:20260312T210000
DTSTAMP:20260421T044405
CREATED:20260305T205119Z
LAST-MODIFIED:20260305T205119Z
UID:10001264-1773342000-1773349200@pinhalla.com
SUMMARY:ThinkTank Trivia Thursdays
DESCRIPTION:⚡️🧠⚡️ THINKTANK TRIVIA ⚡️🧠⚡️ Winter Season! \nGrab your friends for a challenging trivia night with @thinktanktrivia.ca and claim your prize! 🏆 \nTest your smarts\, over a frosty cold beer\, delicious cocktails\, and amazing Pizza\, Salads\, and Appys!! 🍕 \nAfterward\, join us for a round of Pinball before the night is over!! ⚡️🪩 ⚡️
URL:https://pinhalla.com/event/thinktank-trivia-thursdays-8/
ATTACH;FMTTYPE=image/jpeg:https://pinhalla.com/app/uploads/2025/01/ThinkTank_16x9_3.jpg
END:VEVENT
BEGIN:VEVENT
DTSTART;TZID=America/Vancouver:20260311T184500
DTEND;TZID=America/Vancouver:20260311T211500
DTSTAMP:20260421T044405
CREATED:20260305T205835Z
LAST-MODIFIED:20260305T205835Z
UID:10001276-1773254700-1773263700@pinhalla.com
SUMMARY:Legendary Wednesdays featuring the Legends of Pinhalla Pinball League hosted by the VPL
DESCRIPTION:⚡$6 Roni Slices ⚡ $5 Lonetree Ciders ⚡ $7 Fat Tug Pints ~ all day long! \nPinball league sign-up is at 6:45pm\, groups will be made at 7pm sharp. Games usually finish up after 9pm. This is an all ages event\, and we encourage players of all skill levels and experience to join. Minors must be accompanied by an adult. \nThis is an IFPA-sanctioned event. $2 of the fee goes toward sanctioning and registering players with the International Flipper Pinball Association\, \nFor any questions\, concerns\, or high scores\, reach out to Victoria Pinball Leagues on Instagram\, Facebook\, or via email at victoriapinball@gmail.com. \n(Schedule is subject to change)
URL:https://pinhalla.com/event/legendary-wednesdays-featuring-the-legends-of-pinhalla-pinball-league-hosted-by-the-vpl-13/
ATTACH;FMTTYPE=image/png:https://pinhalla.com/app/uploads/2025/01/PINHALLA_Wednesdays_16-9-2.png
END:VEVENT
BEGIN:VEVENT
DTSTART;TZID=America/Vancouver:20260310T160000
DTEND;TZID=America/Vancouver:20260310T230000
DTSTAMP:20260421T044405
CREATED:20260305T210124Z
LAST-MODIFIED:20260305T210207Z
UID:10001281-1773158400-1773183600@pinhalla.com
SUMMARY:RED HOT Tuesdays 💋 {Date Night}
DESCRIPTION:❤️ Date Night ❤️ with RED HOT Tuesday’s ❤️ \n$5 OFF all whole Pizzas ⚡️ $5 Shafts ⚡️ $5 Glasses (6oz) of wine 🍷 \n💋💋💋
URL:https://pinhalla.com/event/red-hot-tuesdays-%f0%9f%92%8b-date-night-8/
ATTACH;FMTTYPE=image/jpeg:https://pinhalla.com/app/uploads/2025/12/PINHALLA-REDHOT-DATE-NIGHT-POSTER-1024-sml.jpg
END:VEVENT
BEGIN:VEVENT
DTSTART;VALUE=DATE:20260309
DTEND;VALUE=DATE:20260310
DTSTAMP:20260421T044405
CREATED:20260305T213611Z
LAST-MODIFIED:20260305T213611Z
UID:10001292-1773014400-1773100799@pinhalla.com
SUMMARY:Extra Credit Mondays
DESCRIPTION:Student Night at Pinhalla! Get 5 FREE TOKENS w/ Student ID ~ $5 Pints of Phillips Tilt Lager\, $6 Highballs\, $5 Pin Pockets! No Cover!
URL:https://pinhalla.com/event/extra-credit-mondays-10/
ATTACH;FMTTYPE=image/png:https://pinhalla.com/app/uploads/2026/01/Mondays-Extra-Credit.png
END:VEVENT
BEGIN:VEVENT
DTSTART;TZID=America/Vancouver:20260307T210000
DTEND;TZID=America/Vancouver:20260307T235900
DTSTAMP:20260421T044405
CREATED:20260305T205523Z
LAST-MODIFIED:20260305T205523Z
UID:10001271-1772917200-1772927940@pinhalla.com
SUMMARY:Saturday Night Spinners
DESCRIPTION:⚡️🪩⚡️ Summon your bravest companions Saturdays\, for a night of awesome beats 🎧 delicious eats 🍕 and pinball action⚡️🪩⚡️ ~ Featuring DJ Anger & Friends ~
URL:https://pinhalla.com/event/saturday-night-spinners-10/
ATTACH;FMTTYPE=image/jpeg:https://pinhalla.com/app/uploads/2024/12/EVENT-SatNiteSpinner.jpg
END:VEVENT
BEGIN:VEVENT
DTSTART;TZID=America/Vancouver:20260306T210000
DTEND;TZID=America/Vancouver:20260306T235900
DTSTAMP:20260421T044405
CREATED:20260305T205320Z
LAST-MODIFIED:20260305T205320Z
UID:10001267-1772830800-1772841540@pinhalla.com
SUMMARY:Full Tilt Fridays
DESCRIPTION:The weekend is here! Our resident DJs Bellyfish & Primitive will be spinning tunes to set the mood on alternate Fridays. DJs from 9pm – midnight! Happy Hour from 4-5:30pm! \n 
URL:https://pinhalla.com/event/full-tilt-fridays-9/
ATTACH;FMTTYPE=image/png:https://pinhalla.com/app/uploads/2024/12/TILT_banner.png
END:VEVENT
BEGIN:VEVENT
DTSTART;TZID=America/Vancouver:20260305T190000
DTEND;TZID=America/Vancouver:20260305T210000
DTSTAMP:20260421T044405
CREATED:20260305T205021Z
LAST-MODIFIED:20260305T205021Z
UID:10001263-1772737200-1772744400@pinhalla.com
SUMMARY:ThinkTank Trivia Thursdays
DESCRIPTION:⚡️🧠⚡️ THINKTANK TRIVIA ⚡️🧠⚡️ Winter Season! \nGrab your friends for a challenging trivia night with @thinktanktrivia.ca and claim your prize! 🏆 \nTest your smarts\, over a frosty cold beer\, delicious cocktails\, and amazing Pizza\, Salads\, and Appys!! 🍕 \nAfterward\, join us for a round of Pinball before the night is over!! ⚡️🪩 ⚡️
URL:https://pinhalla.com/event/thinktank-trivia-thursdays-7/
ATTACH;FMTTYPE=image/jpeg:https://pinhalla.com/app/uploads/2025/01/ThinkTank_16x9_3.jpg
END:VEVENT
BEGIN:VEVENT
DTSTART;TZID=America/Vancouver:20260304T184500
DTEND;TZID=America/Vancouver:20260304T211500
DTSTAMP:20260421T044405
CREATED:20260305T205811Z
LAST-MODIFIED:20260305T205811Z
UID:10001275-1772649900-1772658900@pinhalla.com
SUMMARY:Legendary Wednesdays featuring the Legends of Pinhalla Pinball League hosted by the VPL
DESCRIPTION:⚡$6 Roni Slices ⚡ $5 Lonetree Ciders ⚡ $7 Fat Tug Pints ~ all day long! \nPinball league sign-up is at 6:45pm\, groups will be made at 7pm sharp. Games usually finish up after 9pm. This is an all ages event\, and we encourage players of all skill levels and experience to join. Minors must be accompanied by an adult. \nThis is an IFPA-sanctioned event. $2 of the fee goes toward sanctioning and registering players with the International Flipper Pinball Association\, \nFor any questions\, concerns\, or high scores\, reach out to Victoria Pinball Leagues on Instagram\, Facebook\, or via email at victoriapinball@gmail.com. \n(Schedule is subject to change)
URL:https://pinhalla.com/event/legendary-wednesdays-featuring-the-legends-of-pinhalla-pinball-league-hosted-by-the-vpl-12/
ATTACH;FMTTYPE=image/png:https://pinhalla.com/app/uploads/2025/01/PINHALLA_Wednesdays_16-9-2.png
END:VEVENT
BEGIN:VEVENT
DTSTART;TZID=America/Vancouver:20260303T160000
DTEND;TZID=America/Vancouver:20260303T230000
DTSTAMP:20260421T044405
CREATED:20260305T210057Z
LAST-MODIFIED:20260305T210057Z
UID:10001280-1772553600-1772578800@pinhalla.com
SUMMARY:RED HOT Tuesdays 💋 {Date Night}
DESCRIPTION:❤️ Date Night ❤️ with RED HOT Tuesday’s ❤️ \n$5 OFF all whole Pizzas ⚡️ $5 Shafts ⚡️ $5 Glasses (6oz) of wine 🍷 \n💋💋💋
URL:https://pinhalla.com/event/red-hot-tuesdays-%f0%9f%92%8b-date-night-7/
ATTACH;FMTTYPE=image/jpeg:https://pinhalla.com/app/uploads/2025/12/PINHALLA-REDHOT-DATE-NIGHT-POSTER-1024-sml.jpg
END:VEVENT
BEGIN:VEVENT
DTSTART;VALUE=DATE:20260302
DTEND;VALUE=DATE:20260303
DTSTAMP:20260421T044405
CREATED:20260305T213513Z
LAST-MODIFIED:20260305T213513Z
UID:10001291-1772409600-1772495999@pinhalla.com
SUMMARY:Extra Credit Mondays
DESCRIPTION:Student Night at Pinhalla! Get 5 FREE TOKENS w/ Student ID ~ $5 Pints of Phillips Tilt Lager\, $6 Highballs\, $5 Pin Pockets! No Cover!
URL:https://pinhalla.com/event/extra-credit-mondays-9/
ATTACH;FMTTYPE=image/png:https://pinhalla.com/app/uploads/2026/01/Mondays-Extra-Credit.png
END:VEVENT
BEGIN:VEVENT
DTSTART;TZID=America/Vancouver:20260228T210000
DTEND;TZID=America/Vancouver:20260228T235900
DTSTAMP:20260421T044405
CREATED:20260204T185405Z
LAST-MODIFIED:20260204T185405Z
UID:10001262-1772312400-1772323140@pinhalla.com
SUMMARY:Saturday Night Spinners
DESCRIPTION:⚡️🪩⚡️ Summon your bravest companions Saturdays\, for a night of awesome beats 🎧 delicious eats 🍕 and pinball action⚡️🪩⚡️ ~ Featuring DJ Anger & Friends ~
URL:https://pinhalla.com/event/saturday-night-spinners-9/
ATTACH;FMTTYPE=image/jpeg:https://pinhalla.com/app/uploads/2024/12/EVENT-SatNiteSpinner.jpg
END:VEVENT
BEGIN:VEVENT
DTSTART;TZID=America/Vancouver:20260227T210000
DTEND;TZID=America/Vancouver:20260227T235900
DTSTAMP:20260421T044405
CREATED:20260204T185053Z
LAST-MODIFIED:20260204T185053Z
UID:10001258-1772226000-1772236740@pinhalla.com
SUMMARY:Full Tilt Fridays
DESCRIPTION:The weekend is here! Our resident DJs Bellyfish & Primitive will be spinning tunes to set the mood on alternate Fridays. DJs from 9pm – midnight! Happy Hour from 4-5:30pm! \n 
URL:https://pinhalla.com/event/full-tilt-fridays-8/
ATTACH;FMTTYPE=image/png:https://pinhalla.com/app/uploads/2024/12/TILT_banner.png
END:VEVENT
BEGIN:VEVENT
DTSTART;TZID=America/Vancouver:20260226T190000
DTEND;TZID=America/Vancouver:20260226T210000
DTSTAMP:20260421T044405
CREATED:20260204T180439Z
LAST-MODIFIED:20260204T180724Z
UID:10001248-1772132400-1772139600@pinhalla.com
SUMMARY:ThinkTank Trivia Thursdays
DESCRIPTION:⚡️🧠⚡️ THINKTANK TRIVIA ⚡️🧠⚡️ Winter Season! \nGrab your friends for a challenging trivia night with @thinktanktrivia.ca and claim your prize! 🏆 \nTest your smarts\, over a frosty cold beer\, delicious cocktails\, and amazing Pizza\, Salads\, and Appy’s!! 🍕 \nAfterward\, join us for a round of Pinball before the night is over!! ⚡️🪩 ⚡️
URL:https://pinhalla.com/event/thinktank-trivia-thursdays-6/
ATTACH;FMTTYPE=image/jpeg:https://pinhalla.com/app/uploads/2025/01/ThinkTank_16x9_3.jpg
END:VEVENT
BEGIN:VEVENT
DTSTART;TZID=America/Vancouver:20260225T184500
DTEND;TZID=America/Vancouver:20260225T211500
DTSTAMP:20260421T044405
CREATED:20260204T180004Z
LAST-MODIFIED:20260204T180004Z
UID:10001244-1772045100-1772054100@pinhalla.com
SUMMARY:Legendary Wednesdays featuring the Legends of Pinhalla Pinball League hosted by the VPL
DESCRIPTION:⚡$6 Roni Slices ⚡ $5 Lonetree Ciders ⚡ $7 Fat Tug Pints ~ all day long! \nPinball league sign-up is at 6:45pm\, groups will be made at 7pm sharp. Games usually finish up after 9pm. This is an all ages event\, and we encourage players of all skill levels and experience to join. Minors must be accompanied by an adult. \nThis is an IFPA-sanctioned event. $2 of the fee goes toward sanctioning and registering players with the International Flipper Pinball Association\, \nFor any questions\, concerns\, or high scores\, reach out to Victoria Pinball Leagues on Instagram\, Facebook\, or via email at victoriapinball@gmail.com. \n(Schedule is subject to change)
URL:https://pinhalla.com/event/legendary-wednesdays-featuring-the-legends-of-pinhalla-pinball-league-hosted-by-the-vpl-11/
ATTACH;FMTTYPE=image/png:https://pinhalla.com/app/uploads/2025/01/PINHALLA_Wednesdays_16-9-2.png
END:VEVENT
BEGIN:VEVENT
DTSTART;TZID=America/Vancouver:20260224T160000
DTEND;TZID=America/Vancouver:20260224T230000
DTSTAMP:20260421T044405
CREATED:20260204T180954Z
LAST-MODIFIED:20260204T180954Z
UID:10001251-1771948800-1771974000@pinhalla.com
SUMMARY:RED HOT Tuesdays 💋 {Date Night}
DESCRIPTION:❤️ Date Night ❤️ with RED HOT Tuesday’s ❤️ \n$5 OFF all whole Pizzas ⚡️ $5 Shafts ⚡️ $5 Glasses (6oz) of wine 🍷 \n💋💋💋
URL:https://pinhalla.com/event/red-hot-tuesdays-%f0%9f%92%8b-date-night-6/
ATTACH;FMTTYPE=image/jpeg:https://pinhalla.com/app/uploads/2025/12/PINHALLA-REDHOT-DATE-NIGHT-POSTER-1024-sml.jpg
END:VEVENT
BEGIN:VEVENT
DTSTART;VALUE=DATE:20260223
DTEND;VALUE=DATE:20260224
DTSTAMP:20260421T044405
CREATED:20260204T181139Z
LAST-MODIFIED:20260204T181139Z
UID:10001254-1771804800-1771891199@pinhalla.com
SUMMARY:Extra Credit Mondays
DESCRIPTION:Student Night at Pinhalla! Get 5 FREE TOKENS w/ Student ID ~ $5 Pints of Phillips Tilt Lager\, $6 Highballs\, $5 Pin Pockets! No Cover!
URL:https://pinhalla.com/event/extra-credit-mondays-8/
ATTACH;FMTTYPE=image/png:https://pinhalla.com/app/uploads/2026/01/Mondays-Extra-Credit.png
END:VEVENT
END:VCALENDAR