BEGIN:VCALENDAR
VERSION:2.0
PRODID:-//Pinhalla Pinball Store - ECPv6.15.18//NONSGML v1.0//EN
CALSCALE:GREGORIAN
METHOD:PUBLISH
X-WR-CALNAME:Pinhalla Pinball Store
X-ORIGINAL-URL:https://pinhalla.com
X-WR-CALDESC:Events for Pinhalla Pinball Store
REFRESH-INTERVAL;VALUE=DURATION:PT1H
X-Robots-Tag:noindex
X-PUBLISHED-TTL:PT1H
BEGIN:VTIMEZONE
TZID:America/Vancouver
BEGIN:DAYLIGHT
TZOFFSETFROM:-0800
TZOFFSETTO:-0700
TZNAME:PDT
DTSTART:20250309T100000
END:DAYLIGHT
BEGIN:STANDARD
TZOFFSETFROM:-0700
TZOFFSETTO:-0800
TZNAME:PST
DTSTART:20251102T090000
END:STANDARD
BEGIN:DAYLIGHT
TZOFFSETFROM:-0800
TZOFFSETTO:-0700
TZNAME:PDT
DTSTART:20260308T100000
END:DAYLIGHT
BEGIN:STANDARD
TZOFFSETFROM:-0700
TZOFFSETTO:-0800
TZNAME:PST
DTSTART:20261101T090000
END:STANDARD
BEGIN:DAYLIGHT
TZOFFSETFROM:-0800
TZOFFSETTO:-0700
TZNAME:PDT
DTSTART:20270314T100000
END:DAYLIGHT
BEGIN:STANDARD
TZOFFSETFROM:-0700
TZOFFSETTO:-0800
TZNAME:PST
DTSTART:20271107T090000
END:STANDARD
END:VTIMEZONE
BEGIN:VEVENT
DTSTART;VALUE=DATE:20260216
DTEND;VALUE=DATE:20260217
DTSTAMP:20260421T114646
CREATED:20260204T181115Z
LAST-MODIFIED:20260211T171018Z
UID:10001253-1771200000-1771286399@pinhalla.com
SUMMARY:Family Day Free Play!
DESCRIPTION:Another installement of our wildly popular FREE PLAY events. All games set to FREE PLAY and admission is hourly. Prices start at $10 per person\, with group and family rates available. We will be opening early: 11:30 am until 11pm. \nAlso enjoy $5 Pints of Phillips Tilt Lager\, $6 Highballs\, $5 Pin Pockets all day!
URL:https://pinhalla.com/event/extra-credit-mondays-7/
ATTACH;FMTTYPE=image/png:https://pinhalla.com/app/uploads/2026/02/PINHALLA_FamilyDay_16x9_v2.png
END:VEVENT
BEGIN:VEVENT
DTSTART;TZID=America/Vancouver:20260214T210000
DTEND;TZID=America/Vancouver:20260214T235900
DTSTAMP:20260421T114646
CREATED:20260204T185307Z
LAST-MODIFIED:20260204T185307Z
UID:10001260-1771102800-1771113540@pinhalla.com
SUMMARY:Saturday Night Spinners
DESCRIPTION:⚡️🪩⚡️ Summon your bravest companions Saturdays\, for a night of awesome beats 🎧 delicious eats 🍕 and pinball action⚡️🪩⚡️ ~ Featuring DJ Anger & Friends ~
URL:https://pinhalla.com/event/saturday-night-spinners-7/
ATTACH;FMTTYPE=image/jpeg:https://pinhalla.com/app/uploads/2024/12/EVENT-SatNiteSpinner.jpg
END:VEVENT
BEGIN:VEVENT
DTSTART;TZID=America/Vancouver:20260213T210000
DTEND;TZID=America/Vancouver:20260213T235900
DTSTAMP:20260421T114646
CREATED:20260204T185010Z
LAST-MODIFIED:20260204T185010Z
UID:10001256-1771016400-1771027140@pinhalla.com
SUMMARY:Full Tilt Fridays
DESCRIPTION:The weekend is here! Our resident DJs Bellyfish & Primitive will be spinning tunes to set the mood on alternate Fridays. DJs from 9pm – midnight! Happy Hour from 4-5:30pm! \n 
URL:https://pinhalla.com/event/full-tilt-fridays-6/
ATTACH;FMTTYPE=image/png:https://pinhalla.com/app/uploads/2024/12/TILT_banner.png
END:VEVENT
BEGIN:VEVENT
DTSTART;TZID=America/Vancouver:20260212T190000
DTEND;TZID=America/Vancouver:20260212T210000
DTSTAMP:20260421T114646
CREATED:20260204T180343Z
LAST-MODIFIED:20260204T180343Z
UID:10001246-1770922800-1770930000@pinhalla.com
SUMMARY:ThinkTank Trivia Thursdays
DESCRIPTION:⚡️🧠⚡️ THINKTANK TRIVIA ⚡️🧠⚡️ Winter Season! \nGrab your friends for a challenging trivia night with @thinktanktrivia.ca and claim your prize! 🏆 \nTest your smarts\, over a frosty cold beer\, delicious cocktails\, and amazing Pizza\, Salads\, and Appy’s!! 🍕 \nAfterward\, join us for a round of Pinball before the night is over!! ⚡️🪩 ⚡️
URL:https://pinhalla.com/event/thinktank-trivia-thursdays-4/
ATTACH;FMTTYPE=image/jpeg:https://pinhalla.com/app/uploads/2025/01/ThinkTank_16x9_3.jpg
END:VEVENT
BEGIN:VEVENT
DTSTART;TZID=America/Vancouver:20260211T184500
DTEND;TZID=America/Vancouver:20260211T211500
DTSTAMP:20260421T114646
CREATED:20260204T175907Z
LAST-MODIFIED:20260204T175907Z
UID:10001242-1770835500-1770844500@pinhalla.com
SUMMARY:Legendary Wednesdays featuring the Legends of Pinhalla Pinball League hosted by the VPL
DESCRIPTION:⚡$6 Roni Slices ⚡ $5 Lonetree Ciders ⚡ $7 Fat Tug Pints ~ all day long! \nPinball league sign-up is at 6:45pm\, groups will be made at 7pm sharp. Games usually finish up after 9pm. This is an all ages event\, and we encourage players of all skill levels and experience to join. Minors must be accompanied by an adult. \nThis is an IFPA-sanctioned event. $2 of the fee goes toward sanctioning and registering players with the International Flipper Pinball Association\, \nFor any questions\, concerns\, or high scores\, reach out to Victoria Pinball Leagues on Instagram\, Facebook\, or via email at victoriapinball@gmail.com. \n(Schedule is subject to change)
URL:https://pinhalla.com/event/legendary-wednesdays-featuring-the-legends-of-pinhalla-pinball-league-hosted-by-the-vpl-5/
ATTACH;FMTTYPE=image/png:https://pinhalla.com/app/uploads/2025/01/PINHALLA_Wednesdays_16-9-2.png
END:VEVENT
BEGIN:VEVENT
DTSTART;TZID=America/Vancouver:20260210T160000
DTEND;TZID=America/Vancouver:20260210T230000
DTSTAMP:20260421T114646
CREATED:20260204T180829Z
LAST-MODIFIED:20260204T180829Z
UID:10001249-1770739200-1770764400@pinhalla.com
SUMMARY:RED HOT Tuesdays 💋 {Date Night}
DESCRIPTION:❤️ Date Night ❤️ with RED HOT Tuesday’s ❤️ \n$5 OFF all whole Pizzas ⚡️ $5 Shafts ⚡️ $5 Glasses (6oz) of wine 🍷 \n💋💋💋
URL:https://pinhalla.com/event/red-hot-tuesdays-%f0%9f%92%8b-date-night-3/
ATTACH;FMTTYPE=image/jpeg:https://pinhalla.com/app/uploads/2025/12/PINHALLA-REDHOT-DATE-NIGHT-POSTER-1024-sml.jpg
END:VEVENT
BEGIN:VEVENT
DTSTART;VALUE=DATE:20260209
DTEND;VALUE=DATE:20260210
DTSTAMP:20260421T114646
CREATED:20260204T181030Z
LAST-MODIFIED:20260204T181030Z
UID:10001252-1770595200-1770681599@pinhalla.com
SUMMARY:Extra Credit Mondays
DESCRIPTION:Student Night at Pinhalla! Get 5 FREE TOKENS w/ Student ID ~ $5 Pints of Phillips Tilt Lager\, $6 Highballs\, $5 Pin Pockets! No Cover!
URL:https://pinhalla.com/event/extra-credit-mondays-6/
ATTACH;FMTTYPE=image/png:https://pinhalla.com/app/uploads/2026/01/Mondays-Extra-Credit.png
END:VEVENT
BEGIN:VEVENT
DTSTART;TZID=America/Vancouver:20260207T210000
DTEND;TZID=America/Vancouver:20260207T235900
DTSTAMP:20260421T114646
CREATED:20260204T185247Z
LAST-MODIFIED:20260204T185247Z
UID:10001259-1770498000-1770508740@pinhalla.com
SUMMARY:Saturday Night Spinners
DESCRIPTION:⚡️🪩⚡️ Summon your bravest companions Saturdays\, for a night of awesome beats 🎧 delicious eats 🍕 and pinball action⚡️🪩⚡️ ~ Featuring DJ Anger & Friends ~
URL:https://pinhalla.com/event/saturday-night-spinners-6/
ATTACH;FMTTYPE=image/jpeg:https://pinhalla.com/app/uploads/2024/12/EVENT-SatNiteSpinner.jpg
END:VEVENT
BEGIN:VEVENT
DTSTART;TZID=America/Vancouver:20260206T210000
DTEND;TZID=America/Vancouver:20260206T235900
DTSTAMP:20260421T114646
CREATED:20260204T181350Z
LAST-MODIFIED:20260204T183339Z
UID:10001255-1770411600-1770422340@pinhalla.com
SUMMARY:Full Tilt Fridays
DESCRIPTION:The weekend is here! Our resident DJs Bellyfish & Primitive will be spinning tunes to set the mood on alternate Fridays. DJs from 9pm – midnight! Happy Hour from 4-5:30pm! \n 
URL:https://pinhalla.com/event/full-tilt-fridays-5/
ATTACH;FMTTYPE=image/png:https://pinhalla.com/app/uploads/2024/12/TILT_banner.png
END:VEVENT
BEGIN:VEVENT
DTSTART;TZID=America/Vancouver:20260205T190000
DTEND;TZID=America/Vancouver:20260205T210000
DTSTAMP:20260421T114646
CREATED:20260204T180315Z
LAST-MODIFIED:20260204T180315Z
UID:10001245-1770318000-1770325200@pinhalla.com
SUMMARY:ThinkTank Trivia Thursdays
DESCRIPTION:⚡️🧠⚡️ THINKTANK TRIVIA ⚡️🧠⚡️ Winter Season! \nGrab your friends for a challenging trivia night with @thinktanktrivia.ca and claim your prize! 🏆 \nTest your smarts\, over a frosty cold beer\, delicious cocktails\, and amazing Pizza\, Salads\, and Appy’s!! 🍕 \nAfterward\, join us for a round of Pinball before the night is over!! ⚡️🪩 ⚡️
URL:https://pinhalla.com/event/thinktank-trivia-thursdays-3/
ATTACH;FMTTYPE=image/jpeg:https://pinhalla.com/app/uploads/2025/01/ThinkTank_16x9_3.jpg
END:VEVENT
BEGIN:VEVENT
DTSTART;TZID=America/Vancouver:20260204T184500
DTEND;TZID=America/Vancouver:20260204T211500
DTSTAMP:20260421T114646
CREATED:20260204T175821Z
LAST-MODIFIED:20260204T175821Z
UID:10001241-1770230700-1770239700@pinhalla.com
SUMMARY:Legendary Wednesdays featuring the Legends of Pinhalla Pinball League hosted by the VPL
DESCRIPTION:⚡$6 Roni Slices ⚡ $5 Lonetree Ciders ⚡ $7 Fat Tug Pints ~ all day long! \nPinball league sign-up is at 6:45pm\, groups will be made at 7pm sharp. Games usually finish up after 9pm. This is an all ages event\, and we encourage players of all skill levels and experience to join. Minors must be accompanied by an adult. \nThis is an IFPA-sanctioned event. $2 of the fee goes toward sanctioning and registering players with the International Flipper Pinball Association\, \nFor any questions\, concerns\, or high scores\, reach out to Victoria Pinball Leagues on Instagram\, Facebook\, or via email at victoriapinball@gmail.com. \n(Schedule is subject to change)
URL:https://pinhalla.com/event/legendary-wednesdays-featuring-the-legends-of-pinhalla-pinball-league-hosted-by-the-vpl-4/
ATTACH;FMTTYPE=image/png:https://pinhalla.com/app/uploads/2025/01/PINHALLA_Wednesdays_16-9-2.png
END:VEVENT
BEGIN:VEVENT
DTSTART;TZID=America/Vancouver:20260203T160000
DTEND;TZID=America/Vancouver:20260203T230000
DTSTAMP:20260421T114646
CREATED:20260110T023211Z
LAST-MODIFIED:20260110T024356Z
UID:10001233-1770134400-1770159600@pinhalla.com
SUMMARY:RED HOT Tuesdays 💋 {Date Night}
DESCRIPTION:❤️ Date Night ❤️ with RED HOT Tuesday’s ❤️ \n$5 OFF all whole Pizzas ⚡️ $5 Shafts ⚡️ $5 Glasses (6oz) of wine 🍷 \n💋💋💋
URL:https://pinhalla.com/event/red-hot-tuesdays-%f0%9f%92%8b-date-night/
ATTACH;FMTTYPE=image/jpeg:https://pinhalla.com/app/uploads/2025/12/PINHALLA-REDHOT-DATE-NIGHT-POSTER-1024-sml.jpg
END:VEVENT
BEGIN:VEVENT
DTSTART;VALUE=DATE:20260202
DTEND;VALUE=DATE:20260203
DTSTAMP:20260421T114646
CREATED:20260110T022356Z
LAST-MODIFIED:20260120T202911Z
UID:10001224-1769990400-1770076799@pinhalla.com
SUMMARY:Extra Credit Mondays
DESCRIPTION:Student Night at Pinhalla! Get 5 FREE TOKENS w/ Student ID ~ $5 Pints of Phillips Tilt Lager\, $6 Highballs\, $5 Pin Pockets! No Cover!
URL:https://pinhalla.com/event/extra-credit-mondays-5/
ATTACH;FMTTYPE=image/png:https://pinhalla.com/app/uploads/2026/01/Mondays-Extra-Credit.png
END:VEVENT
BEGIN:VEVENT
DTSTART;TZID=America/Vancouver:20260131T210000
DTEND;TZID=America/Vancouver:20260131T235900
DTSTAMP:20260421T114646
CREATED:20260110T022830Z
LAST-MODIFIED:20260120T234109Z
UID:10001229-1769893200-1769903940@pinhalla.com
SUMMARY:2 Year Anniversary Free Show Featuring Silverware / Blush / Vandriver
DESCRIPTION:We are hosting our FIRST EVER LIVE SHOW for FREE! Featuring local dreamy indie-rock darlings SILVERWARE\, alt-rock outfit BLUSH and East Van’s eclectic VANDRIVER. The festivities start at 8pm and we will go late! This will be a night to remember!
URL:https://pinhalla.com/event/saturday-night-spinners-5/
ATTACH;FMTTYPE=image/png:https://pinhalla.com/app/uploads/2026/01/Pinhalla_Jan31_16x9-scaled.png
END:VEVENT
BEGIN:VEVENT
DTSTART;TZID=America/Vancouver:20260130T210000
DTEND;TZID=America/Vancouver:20260130T235900
DTSTAMP:20260421T114646
CREATED:20260110T021738Z
LAST-MODIFIED:20260122T003506Z
UID:10001220-1769806800-1769817540@pinhalla.com
SUMMARY:King Kong Launch Party featuring Bellyfish & Primitive
DESCRIPTION:The kickoff of our 2 Year Anniversary Weekend with our King Kong Premium Launch Party! \nA brand new Stern King Kong: Myth of Terror Island pinball machine will be available for play at 11:30am with a tournament running all day! There will be food and drink specials and a super rare back-to-back appearance of BOTH our Friday residents: DJ Bellyish and DJ Primitive! \nHappy Hour from 4-5:30pm!\n$5 Phillip’s TILT Pints ⚡ $5 Cheese Slices ⚡ $8 Fried Garlic Bites \nDJs from 9pm – midnight! No Cover
URL:https://pinhalla.com/event/full-tilt-fridays-4/
ATTACH;FMTTYPE=application/pdf:https://pinhalla.com/app/uploads/2026/01/PINHALLA_KingKong_Jan30-26_screen.pdf
END:VEVENT
BEGIN:VEVENT
DTSTART;TZID=America/Vancouver:20260129T190000
DTEND;TZID=America/Vancouver:20260129T210000
DTSTAMP:20260421T114646
CREATED:20260110T024221Z
LAST-MODIFIED:20260110T024221Z
UID:10001239-1769713200-1769720400@pinhalla.com
SUMMARY:ThinkTank Trivia Thursdays
DESCRIPTION:⚡️🧠⚡️ THINKTANK TRIVIA ⚡️🧠⚡️ Winter Season! \nGrab your friends for a challenging trivia night with @thinktanktrivia.ca and claim your prize! 🏆 \nTest your smarts\, over a frosty cold beer\, delicious cocktails\, and amazing Pizza\, Salads\, and Appy’s!! 🍕 \nAfterward\, join us for a round of Pinball before the night is over!! ⚡️🪩 ⚡️
URL:https://pinhalla.com/event/thinktank-trivia-thursdays-2/
ATTACH;FMTTYPE=image/jpeg:https://pinhalla.com/app/uploads/2025/01/ThinkTank_16x9_3.jpg
END:VEVENT
BEGIN:VEVENT
DTSTART;TZID=America/Vancouver:20260128T184500
DTEND;TZID=America/Vancouver:20260128T211500
DTSTAMP:20260421T114646
CREATED:20260110T023037Z
LAST-MODIFIED:20260110T024810Z
UID:10001232-1769625900-1769634900@pinhalla.com
SUMMARY:Legendary Wednesdays featuring the Legends of Pinhalla Pinball League hosted by the VPL
DESCRIPTION:⚡$6 Roni Slices ⚡ $5 Lonetree Ciders ⚡ $7 Fat Tug Pints ~ all day long! \nPinball league sign-up is at 6:45pm\, groups will be made at 7pm sharp. Games usually finish up after 9pm. This is an all ages event\, and we encourage players of all skill levels and experience to join. Minors must be accompanied by an adult. \nThis is an IFPA-sanctioned event. $2 of the fee goes toward sanctioning and registering players with the International Flipper Pinball Association\, \nFor any questions\, concerns\, or high scores\, reach out to Victoria Pinball Leagues on Instagram\, Facebook\, or via email at victoriapinball@gmail.com. \n(Schedule is subject to change)
URL:https://pinhalla.com/event/legendary-wednesdays-featuring-the-legends-of-pinhalla-pinball-league-hosted-by-the-vpl-3/
ATTACH;FMTTYPE=image/png:https://pinhalla.com/app/uploads/2025/01/PINHALLA_Wednesdays_16-9-2.png
END:VEVENT
BEGIN:VEVENT
DTSTART;TZID=America/Vancouver:20260127T160000
DTEND;TZID=America/Vancouver:20260127T230000
DTSTAMP:20260421T114646
CREATED:20260110T023552Z
LAST-MODIFIED:20260110T023552Z
UID:10001236-1769529600-1769554800@pinhalla.com
SUMMARY:RED HOT Tuesdays 💋 {Date Night}
DESCRIPTION:❤️ Date Night ❤️ with RED HOT Tuesday’s ❤️ \n$5 OFF all whole Pizzas ⚡️ $5 Shafts ⚡️ $5 Glasses (6oz) of wine 🍷 \n💋💋💋
URL:https://pinhalla.com/event/red-hot-tuesdays-%f0%9f%92%8b-date-night-4/
ATTACH;FMTTYPE=image/jpeg:https://pinhalla.com/app/uploads/2025/12/PINHALLA-REDHOT-DATE-NIGHT-POSTER-1024-sml.jpg
END:VEVENT
BEGIN:VEVENT
DTSTART;VALUE=DATE:20260126
DTEND;VALUE=DATE:20260127
DTSTAMP:20260421T114646
CREATED:20260110T022323Z
LAST-MODIFIED:20260110T022323Z
UID:10001223-1769385600-1769471999@pinhalla.com
SUMMARY:Extra Credit Mondays
DESCRIPTION:Student Night at Pinhalla! $5 Pints of Phillips Tilt Lager\, $6 Highballs\, $5 Pin Pockets! 5 Free Tokens w/ Student ID. Featuring the sweet sounds of DJ Trevor! 9pm No Cover
URL:https://pinhalla.com/event/extra-credit-mondays-4/
ATTACH;FMTTYPE=image/png:https://pinhalla.com/app/uploads/2026/01/Pinhalla_mondays.png
END:VEVENT
BEGIN:VEVENT
DTSTART;TZID=America/Vancouver:20260124T210000
DTEND;TZID=America/Vancouver:20260124T235900
DTSTAMP:20260421T114646
CREATED:20260110T022528Z
LAST-MODIFIED:20260110T022546Z
UID:10001227-1769288400-1769299140@pinhalla.com
SUMMARY:Saturday Night Spinners
DESCRIPTION:⚡️🪩⚡️ Summon your bravest companions Saturdays\, for a night of awesome beats 🎧 delicious eats 🍕 and pinball action⚡️🪩⚡️\n~ Featuring DJ Anger ~
URL:https://pinhalla.com/event/saturday-night-spinners-2/
ATTACH;FMTTYPE=image/jpeg:https://pinhalla.com/app/uploads/2024/12/EVENT-SatNiteSpinner.jpg
END:VEVENT
BEGIN:VEVENT
DTSTART;TZID=America/Vancouver:20260123T210000
DTEND;TZID=America/Vancouver:20260123T235900
DTSTAMP:20260421T114646
CREATED:20260110T021710Z
LAST-MODIFIED:20260110T021710Z
UID:10001219-1769202000-1769212740@pinhalla.com
SUMMARY:Full Tilt Fridays
DESCRIPTION:The weekend is here! Our resident DJ Bellyfish will be spinning tunes to set the mood while you ⚡ Beer ⚡ Pizza ⚡ Pinballa ⚡ \nHappy Hour from 4-5:30pm!\n$5 Phillip’s TILT Pints ⚡ $5 Cheese Slices ⚡ $8 Fried Garlic Bites \nDJs from 9pm – midnight!
URL:https://pinhalla.com/event/full-tilt-fridays-3/
ATTACH;FMTTYPE=image/png:https://pinhalla.com/app/uploads/2024/12/TILT_banner.png
END:VEVENT
BEGIN:VEVENT
DTSTART;TZID=America/Vancouver:20260122T190000
DTEND;TZID=America/Vancouver:20260122T210000
DTSTAMP:20260421T114646
CREATED:20260110T024040Z
LAST-MODIFIED:20260110T024040Z
UID:10001237-1769108400-1769115600@pinhalla.com
SUMMARY:ThinkTank Trivia Thursdays
DESCRIPTION:⚡️🧠⚡️ THINKTANK TRIVIA ⚡️🧠⚡️ Winter Season! \nGrab your friends for a challenging trivia night with @thinktanktrivia.ca and claim your prize! 🏆 \nTest your smarts\, over a frosty cold beer\, delicious cocktails\, and amazing Pizza\, Salads\, and Appy’s!! 🍕 \nAfterward\, join us for a round of Pinball before the night is over!! ⚡️🪩 ⚡️
URL:https://pinhalla.com/event/thinktank-trivia-thursdays/
ATTACH;FMTTYPE=image/jpeg:https://pinhalla.com/app/uploads/2025/01/ThinkTank_16x9_3.jpg
END:VEVENT
BEGIN:VEVENT
DTSTART;TZID=America/Vancouver:20260121T184500
DTEND;TZID=America/Vancouver:20260121T211500
DTSTAMP:20260421T114646
CREATED:20260110T023013Z
LAST-MODIFIED:20260110T024740Z
UID:10001231-1769021100-1769030100@pinhalla.com
SUMMARY:Legendary Wednesdays featuring the Legends of Pinhalla Pinball League hosted by the VPL
DESCRIPTION:⚡$6 Roni Slices ⚡ $5 Lonetree Ciders ⚡ $7 Fat Tug Pints ~ all day long! \nPinball league sign-up is at 6:45pm\, groups will be made at 7pm sharp. Games usually finish up after 9pm. This is an all ages event\, and we encourage players of all skill levels and experience to join. Minors must be accompanied by an adult. \nThis is an IFPA-sanctioned event. $2 of the fee goes toward sanctioning and registering players with the International Flipper Pinball Association\, \nFor any questions\, concerns\, or high scores\, reach out to Victoria Pinball Leagues on Instagram\, Facebook\, or via email at victoriapinball@gmail.com. \n(Schedule is subject to change)
URL:https://pinhalla.com/event/legendary-wednesdays-featuring-the-legends-of-pinhalla-pinball-league-hosted-by-the-vpl-2/
ATTACH;FMTTYPE=image/png:https://pinhalla.com/app/uploads/2025/01/PINHALLA_Wednesdays_16-9-2.png
END:VEVENT
BEGIN:VEVENT
DTSTART;TZID=America/Vancouver:20260120T160000
DTEND;TZID=America/Vancouver:20260120T230000
DTSTAMP:20260421T114646
CREATED:20260110T023425Z
LAST-MODIFIED:20260110T023459Z
UID:10001235-1768924800-1768950000@pinhalla.com
SUMMARY:RED HOT Tuesdays 💋 {Date Night}
DESCRIPTION:❤️ Date Night ❤️ with RED HOT Tuesday’s ❤️ \n$5 OFF all whole Pizzas ⚡️ $5 Shafts ⚡️ $5 Glasses (6oz) of wine 🍷 \n💋💋💋
URL:https://pinhalla.com/event/red-hot-tuesdays-%f0%9f%92%8b-date-night-2/
ATTACH;FMTTYPE=image/jpeg:https://pinhalla.com/app/uploads/2025/12/PINHALLA-REDHOT-DATE-NIGHT-POSTER-1024-sml.jpg
END:VEVENT
BEGIN:VEVENT
DTSTART;VALUE=DATE:20260119
DTEND;VALUE=DATE:20260120
DTSTAMP:20260421T114646
CREATED:20260110T022210Z
LAST-MODIFIED:20260110T022210Z
UID:10001222-1768780800-1768867199@pinhalla.com
SUMMARY:Extra Credit Mondays
DESCRIPTION:Student Night at Pinhalla! $5 Pints of Phillips Tilt Lager\, $6 Highballs\, $5 Pin Pockets! 5 Free Tokens w/ Student ID. Featuring the sweet sounds of DJ Trevor! 9pm No Cover
URL:https://pinhalla.com/event/extra-credit-mondays-3/
ATTACH;FMTTYPE=image/png:https://pinhalla.com/app/uploads/2026/01/Pinhalla_mondays.png
END:VEVENT
BEGIN:VEVENT
DTSTART;TZID=America/Vancouver:20260117T210000
DTEND;TZID=America/Vancouver:20260117T235900
DTSTAMP:20260421T114646
CREATED:20260110T022746Z
LAST-MODIFIED:20260110T022746Z
UID:10001228-1768683600-1768694340@pinhalla.com
SUMMARY:Saturday Night Spinners
DESCRIPTION:⚡️🪩⚡️ Summon your bravest companions Saturdays\, for a night of awesome beats 🎧 delicious eats 🍕 and pinball action⚡️🪩⚡️\n~ Featuring DJ Anger ~
URL:https://pinhalla.com/event/saturday-night-spinners-4/
ATTACH;FMTTYPE=image/jpeg:https://pinhalla.com/app/uploads/2024/12/EVENT-SatNiteSpinner.jpg
END:VEVENT
BEGIN:VEVENT
DTSTART;TZID=America/Vancouver:20260116T210000
DTEND;TZID=America/Vancouver:20260116T235900
DTSTAMP:20260421T114646
CREATED:20260110T021639Z
LAST-MODIFIED:20260110T021639Z
UID:10001218-1768597200-1768607940@pinhalla.com
SUMMARY:Full Tilt Fridays
DESCRIPTION:The weekend is here! Our resident DJ Primitiv will be spinning tunes to set the mood while you ⚡ Beer ⚡ Pizza ⚡ Pinballa ⚡ \nHappy Hour from 4-5:30pm!\n$5 Phillip’s TILT Pints ⚡ $5 Cheese Slices ⚡ $8 Fried Garlic Bites \nDJs from 9pm – midnight!
URL:https://pinhalla.com/event/full-tilt-fridays-2/
ATTACH;FMTTYPE=image/png:https://pinhalla.com/app/uploads/2024/12/TILT_banner.png
END:VEVENT
BEGIN:VEVENT
DTSTART;VALUE=DATE:20260115
DTEND;VALUE=DATE:20260116
DTSTAMP:20260421T114646
CREATED:20260110T023926Z
LAST-MODIFIED:20260112T224407Z
UID:10001238-1768435200-1768521599@pinhalla.com
SUMMARY:CLOSED ~ PRIVATE EVENT
DESCRIPTION:We are closed Thursday Jan 15th for a private event. \nSorry for the inconvenience!
URL:https://pinhalla.com/event/closed-private-event/
ATTACH;FMTTYPE=image/jpeg:https://pinhalla.com/app/uploads/2024/10/Event-Web-ClosedParty.jpg
END:VEVENT
BEGIN:VEVENT
DTSTART;TZID=America/Vancouver:20260114T184500
DTEND;TZID=America/Vancouver:20260114T211500
DTSTAMP:20260421T114646
CREATED:20260110T022950Z
LAST-MODIFIED:20260110T024504Z
UID:10001230-1768416300-1768425300@pinhalla.com
SUMMARY:Legendary Wednesdays featuring the Legends of Pinhalla Pinball League hosted by the VPL
DESCRIPTION:⚡$6 Roni Slices ⚡ $5 Lonetree Ciders ⚡ $7 Fat Tug Pints ~ all day long! \nPinball league sign-up is at 6:45pm\, groups will be made at 7pm sharp. Games usually finish up after 9pm. This is an all ages event\, and we encourage players of all skill levels and experience to join. Minors must be accompanied by an adult. \nThis is an IFPA-sanctioned event. $2 of the fee goes toward sanctioning and registering players with the International Flipper Pinball Association\, \nFor any questions\, concerns\, or high scores\, reach out to Victoria Pinball Leagues on Instagram\, Facebook\, or via email at victoriapinball@gmail.com. \n(Schedule is subject to change)
URL:https://pinhalla.com/event/legendary-wednesdays-featuring-the-legends-of-pinhalla-pinball-league-hosted-by-the-vpl/
ATTACH;FMTTYPE=image/png:https://pinhalla.com/app/uploads/2025/01/PINHALLA_Wednesdays_16-9-2.png
END:VEVENT
BEGIN:VEVENT
DTSTART;VALUE=DATE:20260113
DTEND;VALUE=DATE:20260114
DTSTAMP:20260421T114646
CREATED:20260112T224329Z
LAST-MODIFIED:20260112T224329Z
UID:10001240-1768262400-1768348799@pinhalla.com
SUMMARY:CLOSED ~ PRIVATE EVENT
DESCRIPTION:We are closed Tuesday Jan 13th for a private event. \nSorry for the inconvenience!
URL:https://pinhalla.com/event/closed-private-event-2/
ATTACH;FMTTYPE=image/jpeg:https://pinhalla.com/app/uploads/2024/10/Event-Web-ClosedParty.jpg
END:VEVENT
END:VCALENDAR